BEGIN:VCALENDAR
VERSION:2.0
PRODID:-//NPSOT-Williamson County Chapter - ECPv6.15.20//NONSGML v1.0//EN
CALSCALE:GREGORIAN
METHOD:PUBLISH
X-ORIGINAL-URL:https://npsotwilco.org
X-WR-CALDESC:Events for NPSOT-Williamson County Chapter
REFRESH-INTERVAL;VALUE=DURATION:PT1H
X-Robots-Tag:noindex
X-PUBLISHED-TTL:PT1H
BEGIN:VTIMEZONE
TZID:America/Chicago
BEGIN:DAYLIGHT
TZOFFSETFROM:-0600
TZOFFSETTO:-0500
TZNAME:CDT
DTSTART:20240310T080000
END:DAYLIGHT
BEGIN:STANDARD
TZOFFSETFROM:-0500
TZOFFSETTO:-0600
TZNAME:CST
DTSTART:20241103T070000
END:STANDARD
BEGIN:DAYLIGHT
TZOFFSETFROM:-0600
TZOFFSETTO:-0500
TZNAME:CDT
DTSTART:20250309T080000
END:DAYLIGHT
BEGIN:STANDARD
TZOFFSETFROM:-0500
TZOFFSETTO:-0600
TZNAME:CST
DTSTART:20251102T070000
END:STANDARD
BEGIN:DAYLIGHT
TZOFFSETFROM:-0600
TZOFFSETTO:-0500
TZNAME:CDT
DTSTART:20260308T080000
END:DAYLIGHT
BEGIN:STANDARD
TZOFFSETFROM:-0500
TZOFFSETTO:-0600
TZNAME:CST
DTSTART:20261101T070000
END:STANDARD
END:VTIMEZONE
BEGIN:VEVENT
DTSTART;TZID=America/Chicago:20250410T190000
DTEND;TZID=America/Chicago:20250410T203000
DTSTAMP:20260424T044123
CREATED:20241230T183839Z
LAST-MODIFIED:20250416T140951Z
UID:4590-1744311600-1744317000@npsotwilco.org
SUMMARY:NPSOT-Wilco Chapter Meeting: "Luminous Landscapes: Fireflies in the Heart of Texas" with Ben Pfeiffer @ GT Public Library
DESCRIPTION:[Update published in a separate post on April 9=> Due to unforeseen circumstances\, the Zoom portion of this meeting was cancelled and the meeting was not recorded.] \nJoin NPSOT-Williamson County on Thursday\, April 10\, 2025\, when our featured topic will be Luminous Landscapes: Fireflies in the Heart of Texas with Ben Pfeiffer.  Free and open to the public. The meeting begins at 7:00 PM.  The guest presentation begins after a short business meeting. \n==> This month’s in-person location is the Georgetown Public Library\, 2nd floor\, 402 West 8th St\, Georgetown\, TX 78626. Come early (6:30 PM) for expert advice\, to check out the seed swap board\, or just to visit. \n==> To attend via Zoom\, register at https://npsot-org.zoom.us/meeting/register/lLoaYnV_Qe-23rxZ-8sVig#/registration \nSee this meeting announcement for details about our guest speaker and topic.
URL:https://npsotwilco.org/event/npsot-wilco-chapter-meeting-firefly-conservation-research-with-ben-pfeiffer/
CATEGORIES:meeting
END:VEVENT
BEGIN:VEVENT
DTSTART;TZID=America/Chicago:20250412T083000
DTEND;TZID=America/Chicago:20250412T113000
DTSTAMP:20260424T044123
CREATED:20241211T150433Z
LAST-MODIFIED:20250522T121206Z
UID:4558-1744446600-1744457400@npsotwilco.org
SUMMARY:Field Trip: Tejas Park
DESCRIPTION:Join Cindy Chrisler and other NPSOT-Williamson County members for a walk in the meadows of Tejas Park\, Lake Georgetown\, in search of spring wildflowers.  We will assemble in the parking lot at 8:30 a.m. to beat the heat. \nSee all the details in this announcement.
URL:https://npsotwilco.org/event/field-trip-camp-tejas/
LOCATION:Tejas Park\, 4562 Co Rd 258\, Liberty Hill\, Texas\, 78642
CATEGORIES:field trip
END:VEVENT
BEGIN:VEVENT
DTSTART;TZID=America/Chicago:20250412T083000
DTEND;TZID=America/Chicago:20250412T123000
DTSTAMP:20260424T044123
CREATED:20250314T030823Z
LAST-MODIFIED:20250327T203958Z
UID:4918-1744446600-1744461000@npsotwilco.org
SUMMARY:Volunteer: Earth Day Festival\, Round Rock
DESCRIPTION:Volunteer for the City of Round Rock’s Earth Day Festival\, at Memorial Park\, 600 N Lee St\, Round Rock\, TX 78664\, on April 12\, 2025. Promote Texas native plants at this free event which is geared towards all ages and with a wide variety of activities and services creating awareness regarding Earth Day. NPSOT-Wilco will have an educational tabling event and a plant giveaway. \nThe event is from 9am-12pm. NPSOT volunteers shifts run from 8:30am-12:30pm. You can volunteer for the whole day\, or for any of the shifts. Details are in the sign up form. \nSign up to volunteer with NPSOT by completing the volunteer form at this link. \nRead about the festival here: City of Round Rock’s Earth Day Festival.
URL:https://npsotwilco.org/event/volunteer-round-rock-earth-day/
LOCATION:Round Rock’s Memorial Park\, 600 N Lee St\, Round Rock\, Tx\, 78664
CATEGORIES:volunteering
END:VEVENT
BEGIN:VEVENT
DTSTART;TZID=America/Chicago:20250413T100000
DTEND;TZID=America/Chicago:20250413T113000
DTSTAMP:20260424T044123
CREATED:20250314T022841Z
LAST-MODIFIED:20250522T121158Z
UID:4895-1744538400-1744543800@npsotwilco.org
SUMMARY:Volunteer: Landfill Pollinator Garden Workday
DESCRIPTION:This month\, join us one week early and\, instead of working\, join us as we enjoy some wildflower blooms\, identify plants\, find some pollinators\, and partake in some light refreshments. If you truly can’t resist pulling weeds\, show up at 9a for a little light weeding and tidying! \nTypically\, we meet each month on the third Sunday of the month. 8:30am-11:30am. \nNo NPSOT sign up required.  Members and non-members are welcome.  Join us at the garden when you can.  Bring a hat\, boots\, gloves and water. Bring your favorite tools. \nThe garden is located at the entrance to the Williamson County Landfill\, at the corner of FM 1660 and Landfill Road in Hutto\, TX\, across from the Recycling Center. \nCheck out our Pollinator Garden Photo Album!  If you’d like to add your photos\, join the contributor group by clicking the plus sign on the album page.
URL:https://npsotwilco.org/event/volunteer-landfill-pollinator-garden-workday-8/
LOCATION:Williamson County Landfill Pollinator Garden\, 600 County Rd 128\, Hutto\, Texas\, 78634
CATEGORIES:volunteering
END:VEVENT
BEGIN:VEVENT
DTSTART;TZID=America/Chicago:20250427T123000
DTEND;TZID=America/Chicago:20250427T163000
DTSTAMP:20260424T044123
CREATED:20250314T031237Z
LAST-MODIFIED:20250418T023958Z
UID:4920-1745757000-1745771400@npsotwilco.org
SUMMARY:Volunteer: Parks & Trails Foundation of Cedar Park\, 2nd Annual Earth Day
DESCRIPTION:Volunteer for either or both shifts\, 12:30pm-2:30pm\, or 2:30pm-4;30pm. \nFind all the details and the sign up form in this announcement.
URL:https://npsotwilco.org/event/volunteer-parks-trails-foundation-of-cedar-park-2nd-annual-earth-day/
LOCATION:Lakeline Park\, 1510 Alexis Dr\, Cedar Park\, TX\, 78613
CATEGORIES:volunteering
END:VEVENT
END:VCALENDAR