BEGIN:VCALENDAR
VERSION:2.0
PRODID:-//NPSOT-Williamson County Chapter - ECPv6.15.20//NONSGML v1.0//EN
CALSCALE:GREGORIAN
METHOD:PUBLISH
X-ORIGINAL-URL:https://npsotwilco.org
X-WR-CALDESC:Events for NPSOT-Williamson County Chapter
REFRESH-INTERVAL;VALUE=DURATION:PT1H
X-Robots-Tag:noindex
X-PUBLISHED-TTL:PT1H
BEGIN:VTIMEZONE
TZID:America/Chicago
BEGIN:DAYLIGHT
TZOFFSETFROM:-0600
TZOFFSETTO:-0500
TZNAME:CDT
DTSTART:20240310T080000
END:DAYLIGHT
BEGIN:STANDARD
TZOFFSETFROM:-0500
TZOFFSETTO:-0600
TZNAME:CST
DTSTART:20241103T070000
END:STANDARD
BEGIN:DAYLIGHT
TZOFFSETFROM:-0600
TZOFFSETTO:-0500
TZNAME:CDT
DTSTART:20250309T080000
END:DAYLIGHT
BEGIN:STANDARD
TZOFFSETFROM:-0500
TZOFFSETTO:-0600
TZNAME:CST
DTSTART:20251102T070000
END:STANDARD
BEGIN:DAYLIGHT
TZOFFSETFROM:-0600
TZOFFSETTO:-0500
TZNAME:CDT
DTSTART:20260308T080000
END:DAYLIGHT
BEGIN:STANDARD
TZOFFSETFROM:-0500
TZOFFSETTO:-0600
TZNAME:CST
DTSTART:20261101T070000
END:STANDARD
END:VTIMEZONE
BEGIN:VEVENT
DTSTART;TZID=America/Chicago:20250101T100000
DTEND;TZID=America/Chicago:20250101T120000
DTSTAMP:20260424T085326
CREATED:20241206T235828Z
LAST-MODIFIED:20241206T235837Z
UID:4525-1735725600-1735732800@npsotwilco.org
SUMMARY:Field Trip: Native Plant Walk
DESCRIPTION:See all the details in this meeting announcement.
URL:https://npsotwilco.org/event/field-trip-native-plant-walk/
LOCATION:Round Rock’s Memorial Park\, 600 N Lee St\, Round Rock\, Tx\, 78664
CATEGORIES:field trip
END:VEVENT
BEGIN:VEVENT
DTSTART;TZID=America/Chicago:20250109T190000
DTEND;TZID=America/Chicago:20250109T203000
DTSTAMP:20260424T085326
CREATED:20241011T091446Z
LAST-MODIFIED:20250106T185502Z
UID:4371-1736449200-1736454600@npsotwilco.org
SUMMARY:Updated Jan 6! NPSOT-Wilco Chapter Meeting: "Native Seed Libraries" with Craig Bruska\, now Zoom Only
DESCRIPTION:Jan 6 News! Due to the weather forecast for Thursday evening\, this meeting will now be held by Zoom only and not in-person. See below to register for the Zoom link. \nJoin NPSOT-Williamson County on Thursday\, January 9\, 2025\, when our featured topic will be “Creating a Native Seed Library in your Community” with Craig Bruska.  Free and open to the public. The meeting begins at 7:00 PM.  The guest presentation begins after a short business meeting. \n==> This month\, we meet at the Georgetown Public Library\, 2nd floor\, 402 West 8th St\, Georgetown\, TX 78626. Come early (6:30 PM) for expert advice\, to check out the seed swap board\, or just to visit.    Due to the weather forecast for Thursday evening\, this meeting will now be held by Zoom only and not in-person. See below to register for the Zoom link.\n \n==> To attend via Zoom register at https://npsot-org.zoom.us/meeting/register/tZAocu6hqDwuGd3UhMwoJnbOlAAIzd0hm42C#/registration \nSee the meeting announcement at this link for details about the topic and our guest speaker. \n 
URL:https://npsotwilco.org/event/npsot-wilco-chapter-meeting-native-seed-libraries-with-craig-bruska-gt-public-library/
LOCATION:Georgetown Public Library\, 402 W 8th St\, Georgetown\, TX\, 78626
CATEGORIES:meeting
END:VEVENT
BEGIN:VEVENT
DTSTART;TZID=America/Chicago:20250118T120000
DTEND;TZID=America/Chicago:20250118T140000
DTSTAMP:20260424T085326
CREATED:20250110T180349Z
LAST-MODIFIED:20250110T180349Z
UID:4650-1737201600-1737208800@npsotwilco.org
SUMMARY:Volunteer: Monarch Way Station Workday @ Murphy Park\, Taylor
DESCRIPTION:Volunteers needed for the Monarch Way Station workday at Murphy Park in Taylor\, Texas\, 1600 Veterans Dr\, Taylor\, TX 76574.  (Entrance on West Lake Drive by pool.) \nNo NPSOT sign up required.  Join us at the garden when you can.  Bring a hat\, boots\, gloves and water. Bring your favorite tools.
URL:https://npsotwilco.org/event/volunteer-monarch-way-station-workday-murphy-park-taylor/
LOCATION:Murphy Park\, 1600 Veterans Dr\, Taylor\, Texas\, 76574
CATEGORIES:volunteering
END:VEVENT
BEGIN:VEVENT
DTSTART;TZID=America/Chicago:20250119T083000
DTEND;TZID=America/Chicago:20250119T113000
DTSTAMP:20260424T085326
CREATED:20240929T175424Z
LAST-MODIFIED:20240929T175424Z
UID:4307-1737275400-1737286200@npsotwilco.org
SUMMARY:Volunteer: Landfill Pollinator Garden Workday
DESCRIPTION:Each month on the third Sunday of the month. 8:30am-11:30am. \nNo NPSOT sign up required.  Members and non-members are welcome.  Join us at the garden when you can.  Bring a hat\, boots\, gloves and water. Bring your favorite tools. \nThe garden is located at the entrance to the Williamson County Landfill\, at the corner of FM 1660 and Landfill Road in Hutto\, TX\, across from the Recycling Center.
URL:https://npsotwilco.org/event/volunteer-landfill-pollinator-garden-workday-6/
LOCATION:Williamson County Landfill Pollinator Garden\, 600 County Rd 128\, Hutto\, Texas\, 78634
END:VEVENT
END:VCALENDAR