BEGIN:VCALENDAR
VERSION:2.0
PRODID:-//NPSOT-Williamson County Chapter - ECPv6.15.20//NONSGML v1.0//EN
CALSCALE:GREGORIAN
METHOD:PUBLISH
X-WR-CALNAME:NPSOT-Williamson County Chapter
X-ORIGINAL-URL:https://npsotwilco.org
X-WR-CALDESC:Events for NPSOT-Williamson County Chapter
REFRESH-INTERVAL;VALUE=DURATION:PT1H
X-Robots-Tag:noindex
X-PUBLISHED-TTL:PT1H
BEGIN:VTIMEZONE
TZID:America/Chicago
BEGIN:DAYLIGHT
TZOFFSETFROM:-0600
TZOFFSETTO:-0500
TZNAME:CDT
DTSTART:20230312T080000
END:DAYLIGHT
BEGIN:STANDARD
TZOFFSETFROM:-0500
TZOFFSETTO:-0600
TZNAME:CST
DTSTART:20231105T070000
END:STANDARD
BEGIN:DAYLIGHT
TZOFFSETFROM:-0600
TZOFFSETTO:-0500
TZNAME:CDT
DTSTART:20240310T080000
END:DAYLIGHT
BEGIN:STANDARD
TZOFFSETFROM:-0500
TZOFFSETTO:-0600
TZNAME:CST
DTSTART:20241103T070000
END:STANDARD
BEGIN:DAYLIGHT
TZOFFSETFROM:-0600
TZOFFSETTO:-0500
TZNAME:CDT
DTSTART:20250309T080000
END:DAYLIGHT
BEGIN:STANDARD
TZOFFSETFROM:-0500
TZOFFSETTO:-0600
TZNAME:CST
DTSTART:20251102T070000
END:STANDARD
END:VTIMEZONE
BEGIN:VEVENT
DTSTART;TZID=America/Chicago:20241201T133000
DTEND;TZID=America/Chicago:20241201T160000
DTSTAMP:20260424T102440
CREATED:20240426T152040Z
LAST-MODIFIED:20241112T141348Z
UID:3757-1733059800-1733068800@npsotwilco.org
SUMMARY:Field Trip: After Thanksgiving @ River Ranch County Park
DESCRIPTION:Please join us Sunday Dec 1 at River Ranch County Park from 1:30pm to 4:00pm. We will meet at the Trailhead West Parking lot. (Follow the signs. It is past the Interpretive Center.) \nWe will take a leisurely walk along the Overlook Trail where we will see a lot of fall grasses. The walk will be a little over a mile and is rated easy with few elevation changes. Feel free to bring your children and friends. Please wear appropriate clothing including long pants and closed toes shoes. Hats and sunscreen recommended. You might throw in a grass id book or notebook to help you with all the grasses. \nThe trip announcement is at this link.
URL:https://npsotwilco.org/event/after-thanksgiving-river-ranch-county-park/
LOCATION:River Ranch County Park\, 2100 County Rd 279\, Liberty Hill\, Texas\, 78642
CATEGORIES:field trip
END:VEVENT
BEGIN:VEVENT
DTSTART;TZID=America/Chicago:20241212T190000
DTEND;TZID=America/Chicago:20241212T203000
DTSTAMP:20260424T102440
CREATED:20230702T174513Z
LAST-MODIFIED:20241120T135857Z
UID:2597-1734030000-1734035400@npsotwilco.org
SUMMARY:NPSOT-Wilco Chapter Meeting\, In-Person Only\, Annual Holiday Gathering and Silent Auction @ GT Public Library
DESCRIPTION:Join us in-person only for NPSOT-Wilco’s annual year-end gathering and silent auction\, Thursday\, December 12\, 2024. Guests are welcome! \nCheck in begins at 6:30pm. The meeting starts at 7:00pm. We meet at the Georgetown Public Library\, 2nd floor\, 402 West 8th St\, Georgetown\, TX 78626. \nSee all the details in this meeting announcement.
URL:https://npsotwilco.org/event/npsot-wilco-chapter-meeting-topic-to-be-announced-11/
LOCATION:Georgetown Public Library\, 402 W 8th St\, Georgetown\, TX\, 78626
CATEGORIES:meeting
END:VEVENT
BEGIN:VEVENT
DTSTART;TZID=America/Chicago:20241215T083000
DTEND;TZID=America/Chicago:20241215T113000
DTSTAMP:20260424T102440
CREATED:20240929T175319Z
LAST-MODIFIED:20240929T175319Z
UID:4305-1734251400-1734262200@npsotwilco.org
SUMMARY:Volunteer: Landfill Pollinator Garden Workday
DESCRIPTION:Each month on the third Sunday of the month. 8:30am-11:30am. \nNo NPSOT sign up required.  Members and non-members are welcome.  Join us at the garden when you can.  Bring a hat\, boots\, gloves and water. Bring your favorite tools. \nThe garden is located at the entrance to the Williamson County Landfill\, at the corner of FM 1660 and Landfill Road in Hutto\, TX\, across from the Recycling Center.
URL:https://npsotwilco.org/event/volunteer-landfill-pollinator-garden-workday-5/
LOCATION:Williamson County Landfill Pollinator Garden\, 600 County Rd 128\, Hutto\, Texas\, 78634
END:VEVENT
END:VCALENDAR