BEGIN:VCALENDAR
VERSION:2.0
PRODID:-//NPSOT-Williamson County Chapter - ECPv6.15.20//NONSGML v1.0//EN
CALSCALE:GREGORIAN
METHOD:PUBLISH
X-ORIGINAL-URL:https://npsotwilco.org
X-WR-CALDESC:Events for NPSOT-Williamson County Chapter
REFRESH-INTERVAL;VALUE=DURATION:PT1H
X-Robots-Tag:noindex
X-PUBLISHED-TTL:PT1H
BEGIN:VTIMEZONE
TZID:America/Chicago
BEGIN:DAYLIGHT
TZOFFSETFROM:-0600
TZOFFSETTO:-0500
TZNAME:CDT
DTSTART:20230312T080000
END:DAYLIGHT
BEGIN:STANDARD
TZOFFSETFROM:-0500
TZOFFSETTO:-0600
TZNAME:CST
DTSTART:20231105T070000
END:STANDARD
BEGIN:DAYLIGHT
TZOFFSETFROM:-0600
TZOFFSETTO:-0500
TZNAME:CDT
DTSTART:20240310T080000
END:DAYLIGHT
BEGIN:STANDARD
TZOFFSETFROM:-0500
TZOFFSETTO:-0600
TZNAME:CST
DTSTART:20241103T070000
END:STANDARD
BEGIN:DAYLIGHT
TZOFFSETFROM:-0600
TZOFFSETTO:-0500
TZNAME:CDT
DTSTART:20250309T080000
END:DAYLIGHT
BEGIN:STANDARD
TZOFFSETFROM:-0500
TZOFFSETTO:-0600
TZNAME:CST
DTSTART:20251102T070000
END:STANDARD
END:VTIMEZONE
BEGIN:VEVENT
DTSTART;TZID=America/Chicago:20241010T190000
DTEND;TZID=America/Chicago:20241010T203000
DTSTAMP:20260424T130718
CREATED:20230702T174353Z
LAST-MODIFIED:20240918T132337Z
UID:2593-1728586800-1728592200@npsotwilco.org
SUMMARY:NPSOT-Wilco Chapter Meeting\, “Building a Future With Flowers: Lewisville’s Sustainable Solution” with TJ Gilmore @ GT Public Library
DESCRIPTION:Join NPSOT-Williamson County on Thursday\, October 10\, 2024\, when our featured topic will be “Building a Future With Flowers: Lewisville’s Sustainable Solution” with TJ Gilmore\, mayor of Lewisville\, Texas.  Our guest speaker will be joining us via Zoom from Lewisville. \nThe meeting begins at 7:00 PM. TJ’s presentation will begin after a short business meeting. The meeting is free and open to the public. \n==> This month\, we meet at the Georgetown Public Library\, 2nd Floor\, 402 W 8th St\, Georgetown\, Texas 78626.  Come early (6:30 PM) for expert advice\, to check out the seed swap board\, or just to visit. \n==> To attend via Zoom register at https://npsot-org.zoom.us/meeting/register/tZcod-6rpj0vHNbqaLOu16d146ngFuPBxCTO#/registration \nSee the meeting announcement at this link for details about the topic and our guest speaker.
URL:https://npsotwilco.org/event/npsot-wilco-chapter-meeting-topic-to-be-announced-9/
LOCATION:Georgetown Public Library\, 402 W 8th St\, Georgetown\, TX\, 78626
CATEGORIES:meeting
END:VEVENT
BEGIN:VEVENT
DTSTART;TZID=America/Chicago:20241013T120000
DTEND;TZID=America/Chicago:20241016T120000
DTSTAMP:20260424T130718
CREATED:20240929T194159Z
LAST-MODIFIED:20240930T130046Z
UID:4327-1728820800-1729080000@npsotwilco.org
SUMMARY:Oct 13-16\, NPSOT-Wilco Online Pop-Up Plant Sale
DESCRIPTION:Order Texas native plants ONLINE from October 13 (noon) to October 16 (noon) and pick them up at the in-person sale on November 2\, 2024. \nFind all the information about the online sale and the in-person sale on our 2024 Fall Native Plant Sale page.
URL:https://npsotwilco.org/event/4327/
LOCATION:Our Online Store
END:VEVENT
BEGIN:VEVENT
DTSTART;TZID=America/Chicago:20241016T110000
DTEND;TZID=America/Chicago:20241016T140000
DTSTAMP:20260424T130718
CREATED:20240909T175720Z
LAST-MODIFIED:20240909T180052Z
UID:4205-1729076400-1729087200@npsotwilco.org
SUMMARY:Volunteer: NPSOT @ H-E-B during Texas Native Plant Week
DESCRIPTION:Volunteer to help give away native plant seed packets and information from 11am-2pm at one of our local H-E-B stores.  Find all the details and how to signup in this announcement post.
URL:https://npsotwilco.org/event/volunteer-npsot-h-e-b-texas-native-plant-week/
CATEGORIES:volunteering
END:VEVENT
BEGIN:VEVENT
DTSTART;TZID=America/Chicago:20241019T100000
DTEND;TZID=America/Chicago:20241019T120000
DTSTAMP:20260424T130718
CREATED:20240426T152253Z
LAST-MODIFIED:20240912T212852Z
UID:3752-1729332000-1729339200@npsotwilco.org
SUMMARY:Field Trip: Palmetto State Park
DESCRIPTION:Palmetto State Park is an unusual botanical area resembling the tropics more than Central Texas. Most notably\, a stand of dwarf palmetto (Sabal minor) plants is found in the park’s ephemeral swamp. \nSee all the details and where to meet in the blog post announcement published September 12\, 2024.
URL:https://npsotwilco.org/event/field-trip-guided-hike-at-palmetto-state-park/
LOCATION:Palmetto State Park\, 78 Park Road 11 South\, Gonzales\, TX\, 78629
CATEGORIES:field trip
END:VEVENT
BEGIN:VEVENT
DTSTART;TZID=America/Chicago:20241019T110000
DTEND;TZID=America/Chicago:20241019T140000
DTSTAMP:20260424T130718
CREATED:20240909T175834Z
LAST-MODIFIED:20240909T180125Z
UID:4207-1729335600-1729346400@npsotwilco.org
SUMMARY:Volunteer: NPSOT @ H-E-B during Texas Native Plant Week
DESCRIPTION:Volunteer to help give away native plant seed packets and information from 11am-2pm at one of our local H-E-B stores.  Find all the details and how to signup in this announcement post.
URL:https://npsotwilco.org/event/volunteer-npsot-h-e-b-texas-native-plant-week-2/
CATEGORIES:volunteering
END:VEVENT
BEGIN:VEVENT
DTSTART;TZID=America/Chicago:20241020T083000
DTEND;TZID=America/Chicago:20241020T113000
DTSTAMP:20260424T130718
CREATED:20240929T175054Z
LAST-MODIFIED:20240929T175054Z
UID:4301-1729413000-1729423800@npsotwilco.org
SUMMARY:Volunteer: Landfill Pollinator Garden Workday
DESCRIPTION:Each month on the third Sunday of the month. 8:30am-11:30am. \nNo NPSOT sign up required.  Members and non-members are welcome.  Join us at the garden when you can.  Bring a hat\, boots\, gloves and water. Bring your favorite tools. \nThe garden is located at the entrance to the Williamson County Landfill\, at the corner of FM 1660 and Landfill Road in Hutto\, TX\, across from the Recycling Center.
URL:https://npsotwilco.org/event/volunteer-landfill-pollinator-garden-workday-3/
LOCATION:Williamson County Landfill Pollinator Garden\, 600 County Rd 128\, Hutto\, Texas\, 78634
CATEGORIES:volunteering
END:VEVENT
END:VCALENDAR