BEGIN:VCALENDAR
VERSION:2.0
PRODID:-//NPSOT-Williamson County Chapter - ECPv6.15.20//NONSGML v1.0//EN
CALSCALE:GREGORIAN
METHOD:PUBLISH
X-ORIGINAL-URL:https://npsotwilco.org
X-WR-CALDESC:Events for NPSOT-Williamson County Chapter
REFRESH-INTERVAL;VALUE=DURATION:PT1H
X-Robots-Tag:noindex
X-PUBLISHED-TTL:PT1H
BEGIN:VTIMEZONE
TZID:America/Chicago
BEGIN:DAYLIGHT
TZOFFSETFROM:-0600
TZOFFSETTO:-0500
TZNAME:CDT
DTSTART:20230312T080000
END:DAYLIGHT
BEGIN:STANDARD
TZOFFSETFROM:-0500
TZOFFSETTO:-0600
TZNAME:CST
DTSTART:20231105T070000
END:STANDARD
BEGIN:DAYLIGHT
TZOFFSETFROM:-0600
TZOFFSETTO:-0500
TZNAME:CDT
DTSTART:20240310T080000
END:DAYLIGHT
BEGIN:STANDARD
TZOFFSETFROM:-0500
TZOFFSETTO:-0600
TZNAME:CST
DTSTART:20241103T070000
END:STANDARD
BEGIN:DAYLIGHT
TZOFFSETFROM:-0600
TZOFFSETTO:-0500
TZNAME:CDT
DTSTART:20250309T080000
END:DAYLIGHT
BEGIN:STANDARD
TZOFFSETFROM:-0500
TZOFFSETTO:-0600
TZNAME:CST
DTSTART:20251102T070000
END:STANDARD
END:VTIMEZONE
BEGIN:VEVENT
DTSTART;TZID=America/Chicago:20240907T080000
DTEND;TZID=America/Chicago:20240907T103000
DTSTAMP:20260424T143628
CREATED:20240822T200901Z
LAST-MODIFIED:20240822T201046Z
UID:4177-1725696000-1725705000@npsotwilco.org
SUMMARY:Plant Rescue in NW Cedar Park
DESCRIPTION:Volunteer with us Saturday\, September 7\, from 8:00-10:30 in NW Cedar Park as we rescue limestone meadow plants such as Blackfoot Daisy (Melampodium leucanthum)\, Slender Greenthread (Thelesperma simplicifolium) and Texas Skeleton Plant (Lygodesmia texana) prior to construction. There is a long asphalt driveway on the site\, and you will pull off to the side of the driveway to park on the grass. The rescue area is a 7 acre\, full sun site adjacent to the parking area. \nMore details can be found on our sign up form below. Once you sign up\, you will automatically be redirected to sign the liability paperwork. Directions and location info will be sent a few days prior to rescue day. \nYou must be a current NPSOT member (any chapter) and at least 18 to attend the plant rescue. (Join NPSOT or renew here.) ALL participants must sign up below\, no unexpected guests on rescue day please. \nSign up for the rescue at this link. \nLearn more about the Native Plant Rescue Project at this link. \n\n			\n				\n			\n				\n				Texas Skeleton Plant\n				\n			\n				\n			\n				\n				Texas Skeleton Plant seeds\n				\n			\n				\n			\n				\n				Thelesperma simplicifolium\n				\n		\n\n 
URL:https://npsotwilco.org/event/plant-rescue-in-nw-cedar-park/
LOCATION:Location sent to those who sign up
CATEGORIES:plant rescue
END:VEVENT
BEGIN:VEVENT
DTSTART;TZID=America/Chicago:20240907T083000
DTEND;TZID=America/Chicago:20240907T110000
DTSTAMP:20260424T143628
CREATED:20240426T151458Z
LAST-MODIFIED:20240819T175838Z
UID:3750-1725697800-1725706800@npsotwilco.org
SUMMARY:Field Trip: Hidden Springs Preserve Plant Survey #12
DESCRIPTION:Last plant survey trip to this preserve!  Hidden Springs is NOT open to the public but our field trip is.  Beginners and people with all experience levels are welcome.  Be sure to arrive by 8:45am before the gate locks. \nSee all the details and important information at this link.
URL:https://npsotwilco.org/event/field-trip-hidden-springs-preserve-plant-survey-12/
LOCATION:Hidden Springs Preserve\, 978 Co Rd 224\, Florence\, Texas\, 76527
CATEGORIES:field trip
END:VEVENT
BEGIN:VEVENT
DTSTART;TZID=America/Chicago:20240912T190000
DTEND;TZID=America/Chicago:20240912T203000
DTSTAMP:20260424T143628
CREATED:20230702T174314Z
LAST-MODIFIED:20240822T123228Z
UID:2591-1726167600-1726173000@npsotwilco.org
SUMMARY:NPSOT-Wilco Chapter Meeting\, "Rediscovering the MoKan" with Ashley Landry @ GT Parks & Rec Community Room
DESCRIPTION:Join NPSOT-Williamson County on Thursday\, September 12\, 2024\, when our featured topic will be “Rediscovering the MoKan Prairie” with Ashley Landry.   \nThe meeting begins at 7:00 PM.  Our guest speaker’s presentation begins after a short business meeting. The meeting is free and open to the public. \nThis month’s guest presentation will NOT be recorded for our YouTube channel. \n==> This month\, we meet at the Georgetown Parks & Rec Administration Building\, 1101 N College St\, Georgetown\, Texas 78626.  Come early (6:30 PM) for expert advice\, to check out the seed swap board\, or just to visi \n==> To attend via Zoom register at https://npsot-org.zoom.us/meeting/register/tZUocO2hrDIoHtJr04M8aO3xidbZhHQz09i7#/registration \nSee the meeting announcement to read about our featured topic and speaker. \n  \n 
URL:https://npsotwilco.org/event/npsot-wilco-chapter-meeting-topic-to-be-announced-8/
LOCATION:Georgetown Parks & Rec Admin Bldg\, 1101 N College St\, Georgetown\, Texas\, 78626
CATEGORIES:meeting
END:VEVENT
END:VCALENDAR