BEGIN:VCALENDAR
VERSION:2.0
PRODID:-//NPSOT-Williamson County Chapter - ECPv6.15.20//NONSGML v1.0//EN
CALSCALE:GREGORIAN
METHOD:PUBLISH
X-ORIGINAL-URL:https://npsotwilco.org
X-WR-CALDESC:Events for NPSOT-Williamson County Chapter
REFRESH-INTERVAL;VALUE=DURATION:PT1H
X-Robots-Tag:noindex
X-PUBLISHED-TTL:PT1H
BEGIN:VTIMEZONE
TZID:America/Chicago
BEGIN:DAYLIGHT
TZOFFSETFROM:-0600
TZOFFSETTO:-0500
TZNAME:CDT
DTSTART:20250309T080000
END:DAYLIGHT
BEGIN:STANDARD
TZOFFSETFROM:-0500
TZOFFSETTO:-0600
TZNAME:CST
DTSTART:20251102T070000
END:STANDARD
BEGIN:DAYLIGHT
TZOFFSETFROM:-0600
TZOFFSETTO:-0500
TZNAME:CDT
DTSTART:20260308T080000
END:DAYLIGHT
BEGIN:STANDARD
TZOFFSETFROM:-0500
TZOFFSETTO:-0600
TZNAME:CST
DTSTART:20261101T070000
END:STANDARD
BEGIN:DAYLIGHT
TZOFFSETFROM:-0600
TZOFFSETTO:-0500
TZNAME:CDT
DTSTART:20270314T080000
END:DAYLIGHT
BEGIN:STANDARD
TZOFFSETFROM:-0500
TZOFFSETTO:-0600
TZNAME:CST
DTSTART:20271107T070000
END:STANDARD
END:VTIMEZONE
BEGIN:VEVENT
DTSTART;TZID=America/Chicago:20261008T190000
DTEND;TZID=America/Chicago:20261008T203000
DTSTAMP:20260419T225228
CREATED:20260210T175244Z
LAST-MODIFIED:20260210T175244Z
UID:5965-1791486000-1791491400@npsotwilco.org
SUMMARY:Chapter Meeting
DESCRIPTION:Free and open to the public.  Attend in-person or via Zoom. The meeting begins at 7:00 PM. The guest presentation begins after a short business meeting. In-person\, come early (6:30 pm) for expert advice\, to check out the seed swap board\, or just to visit. \nDetails will be announced about 3 weeks before the meeting.
URL:https://npsotwilco.org/event/chapter-meeting-4/
LOCATION:Texas
CATEGORIES:meeting
END:VEVENT
BEGIN:VEVENT
DTSTART;TZID=America/Chicago:20261112T190000
DTEND;TZID=America/Chicago:20261112T203000
DTSTAMP:20260419T225228
CREATED:20260210T175335Z
LAST-MODIFIED:20260217T175549Z
UID:5967-1794510000-1794515400@npsotwilco.org
SUMMARY:"The Soils of Central Texas" with Nathaniel Woodward
DESCRIPTION:Free and open to the public.  Attend in-person or via Zoom. The meeting begins at 7:00 PM. The guest presentation begins after a short business meeting. In-person\, come early (6:30 pm) for expert advice\, to check out the seed swap board\, or just to visit. \nDetails will be announced about 3 weeks before the meeting.
URL:https://npsotwilco.org/event/chapter-meeting-5/
LOCATION:Texas
CATEGORIES:meeting
END:VEVENT
END:VCALENDAR