BEGIN:VCALENDAR
VERSION:2.0
PRODID:-//NPSOT-Williamson County Chapter - ECPv6.15.20//NONSGML v1.0//EN
CALSCALE:GREGORIAN
METHOD:PUBLISH
X-WR-CALNAME:NPSOT-Williamson County Chapter
X-ORIGINAL-URL:https://npsotwilco.org
X-WR-CALDESC:Events for NPSOT-Williamson County Chapter
REFRESH-INTERVAL;VALUE=DURATION:PT1H
X-Robots-Tag:noindex
X-PUBLISHED-TTL:PT1H
BEGIN:VTIMEZONE
TZID:America/Chicago
BEGIN:DAYLIGHT
TZOFFSETFROM:-0600
TZOFFSETTO:-0500
TZNAME:CDT
DTSTART:20210314T080000
END:DAYLIGHT
BEGIN:STANDARD
TZOFFSETFROM:-0500
TZOFFSETTO:-0600
TZNAME:CST
DTSTART:20211107T070000
END:STANDARD
BEGIN:DAYLIGHT
TZOFFSETFROM:-0600
TZOFFSETTO:-0500
TZNAME:CDT
DTSTART:20220313T080000
END:DAYLIGHT
BEGIN:STANDARD
TZOFFSETFROM:-0500
TZOFFSETTO:-0600
TZNAME:CST
DTSTART:20221106T070000
END:STANDARD
BEGIN:DAYLIGHT
TZOFFSETFROM:-0600
TZOFFSETTO:-0500
TZNAME:CDT
DTSTART:20230312T080000
END:DAYLIGHT
BEGIN:STANDARD
TZOFFSETFROM:-0500
TZOFFSETTO:-0600
TZNAME:CST
DTSTART:20231105T070000
END:STANDARD
END:VTIMEZONE
BEGIN:VEVENT
DTSTART;TZID=America/Chicago:20221113T130000
DTEND;TZID=America/Chicago:20221113T160000
DTSTAMP:20260421T010519
CREATED:20230603T221322Z
LAST-MODIFIED:20230613T160255Z
UID:2215-1668344400-1668355200@npsotwilco.org
SUMMARY:Volunteer: Plant Rescue
DESCRIPTION:New Hope Rd right of way.
URL:https://npsotwilco.org/event/plant-rescue/
LOCATION:TX
END:VEVENT
BEGIN:VEVENT
DTSTART;TZID=America/Chicago:20221110T190000
DTEND;TZID=America/Chicago:20221110T203000
DTSTAMP:20260421T010519
CREATED:20230603T221322Z
LAST-MODIFIED:20230603T221322Z
UID:2213-1668106800-1668112200@npsotwilco.org
SUMMARY:IN PERSON & VIRTUAL\, Monthly NPSOT-Wilco Chapter Meeting\, "Fibonacci Sequence and Native Plants" with Diana Wilson
DESCRIPTION:Free and  open to the public. Note that this month we meet at the ROUND ROCK PUBLIC LIBRARY.  Or  attend via Zoom by registering at https://npsot-org.zoom.us/meeting/register/tZIod-mrrD4qHdyO0H0e1Vn_MN-GVh_S1Rzl. For a look at all planned topics\, select “What We Do” on the main menu line at the top of the page\, then select “Chapter Meetings/Speakers.”  The website url is www.npsot.org/wp/wilco
URL:https://npsotwilco.org/event/in-person-virtual-monthly-npsot-wilco-chapter-meeting-fibonacci-sequence-and-native-plants-with-diana-wilson/
LOCATION:TX
END:VEVENT
BEGIN:VEVENT
DTSTART;TZID=America/Chicago:20221029T093000
DTEND;TZID=America/Chicago:20221029T120000
DTSTAMP:20260421T010519
CREATED:20230603T221322Z
LAST-MODIFIED:20230603T221322Z
UID:2214-1667035800-1667044800@npsotwilco.org
SUMMARY:Field Trip: Round Rock HS and Member Garden Tour
DESCRIPTION:Tour Round Rock High School’s and chapter members’ native gardens. See details in the blog post published October 26\, 2022\, or the original announcement published on August 31\, 2022.
URL:https://npsotwilco.org/event/field-trip-round-rock-hs-and-member-garden-tour/
LOCATION:TX
END:VEVENT
BEGIN:VEVENT
DTSTART;TZID=America/Chicago:20221022T100000
DTEND;TZID=America/Chicago:20221022T140000
DTSTAMP:20260421T010519
CREATED:20230603T221322Z
LAST-MODIFIED:20230603T221322Z
UID:2211-1666432800-1666447200@npsotwilco.org
SUMMARY:NPSOT-Wilco Fall Plant Sale Pick Up Day
DESCRIPTION:Plant pickup is only for those who completed an online order during the order window Oct 8-12. There will be no onsite sales. The window of time for you to pick up your confirmed order and a map to the exact building location will be sent to your email once your order is confirmed. For details\, see the blog post published Oct 1\, “NPSOT-Williamson County Fall 2022 Online Plant Sale.”
URL:https://npsotwilco.org/event/npsot-wilco-fall-plant-sale-pick-up-day/
LOCATION:TX
END:VEVENT
BEGIN:VEVENT
DTSTART;TZID=America/Chicago:20221013T190000
DTEND;TZID=America/Chicago:20221013T203000
DTSTAMP:20260421T010519
CREATED:20230603T221305Z
LAST-MODIFIED:20230603T221305Z
UID:2210-1665687600-1665693000@npsotwilco.org
SUMMARY:IN PERSON & VIRTUAL\, Monthly NPSOT-Wilco Chapter Meeting\, "Fire Resistant Landscaping" with Camille Wiseman
DESCRIPTION:Free and  open to the public. In person\, 2nd floor\, Georgetown Public Library.  Or to attend via Zoom\, register at https://npsot-org.zoom.us/meeting/register/tZMpf-GtrzgoHtDfyLdyul4Lew282yVY1D4H. For a look at all planned topics\, select “What We Do” on the main menu line at the top of the page\, then select “Chapter Meetings/Speakers.”  The website url is www.npsot.org/wp/wilco
URL:https://npsotwilco.org/event/in-person-virtual-monthly-npsot-wilco-chapter-meeting-fire-resistant-landscaping-with-camille-wiseman/
LOCATION:TX
END:VEVENT
BEGIN:VEVENT
DTSTART;TZID=America/Chicago:20221012T000000
DTEND;TZID=America/Chicago:20221013T000000
DTSTAMP:20260421T010519
CREATED:20230603T221322Z
LAST-MODIFIED:20230603T221322Z
UID:2212-1665532800-1665619200@npsotwilco.org
SUMMARY:Oct 8-12\, NPSOT-Wilco Fall Plant Sale Order Window
DESCRIPTION:This fall’s plant sale is online only. October 12 is the last day to order. The chapter will take orders October 8-12. See our blog post published Oct 1 for the list of available plants and how to order (post titled “NPSOT-Williamson County Fall 2022 Online Plant Sale”). Pickup is on Oct 22\, only for those who completed an online order during the order window Oct 8-12. There will be no onsite sales.
URL:https://npsotwilco.org/event/oct-8-12-npsot-wilco-fall-plant-sale-order-window/
LOCATION:TX
END:VEVENT
BEGIN:VEVENT
DTSTART;TZID=America/Chicago:20220917T093000
DTEND;TZID=America/Chicago:20220917T120000
DTSTAMP:20260421T010519
CREATED:20230603T221305Z
LAST-MODIFIED:20230603T221305Z
UID:2209-1663407000-1663416000@npsotwilco.org
SUMMARY:Field Trip: Lady Bird Johnson Wildflower Center Tour
DESCRIPTION:Guided tour of LBJWC.  Field trip open to the public. Must register to attend. Important details in the blog post published August 21\, 2022. Or check our Field Trips webpage by selecting What We Do on the main page menu\, then selecting Field Trips. 
URL:https://npsotwilco.org/event/field-trip-lady-bird-johnson-wildflower-center-tour/
LOCATION:TX
END:VEVENT
BEGIN:VEVENT
DTSTART;TZID=America/Chicago:20220908T190000
DTEND;TZID=America/Chicago:20220908T203000
DTSTAMP:20260421T010519
CREATED:20230603T221237Z
LAST-MODIFIED:20230603T221237Z
UID:2200-1662663600-1662669000@npsotwilco.org
SUMMARY:IN PERSON & VIRTUAL\, Monthly NPSOT-Wilco Chapter Meeting\, Joseph Marcus from Lady Bird Johnson Wildflower Center
DESCRIPTION:Free and  open to the public. In person\, 2nd floor\, Georgetown Public Library.  Or to attend via Zoom\, register at https://npsot-org.zoom.us/meeting/register/tZUodOGvrDgiEtNSroweaHguu-sl7dk_L_PF. For a look at all planned topics\, select “What We Do” on the main menu line at the top of the page\, then select “Chapter Meetings/Speakers.”  The website url is www.npsot.org/wp/wilco
URL:https://npsotwilco.org/event/in-person-virtual-monthly-npsot-wilco-chapter-meeting-joseph-marcus-from-lady-bird-johnson-wildflower-center/
LOCATION:TX
END:VEVENT
BEGIN:VEVENT
DTSTART;TZID=America/Chicago:20220813T081500
DTEND;TZID=America/Chicago:20220813T110000
DTSTAMP:20260421T010519
CREATED:20230603T221305Z
LAST-MODIFIED:20230603T221305Z
UID:2208-1660378500-1660388400@npsotwilco.org
SUMMARY:CANCELLED\, was Field Trip: Hidden Springs Preserve
DESCRIPTION:Updated Aug 3\, 2022: due to the heat and dryness\, this field trip is cancelled. 
URL:https://npsotwilco.org/event/cancelled-was-field-trip-hidden-springs-preserve/
LOCATION:TX
END:VEVENT
BEGIN:VEVENT
DTSTART;TZID=America/Chicago:20220811T190000
DTEND;TZID=America/Chicago:20220811T203000
DTSTAMP:20260421T010519
CREATED:20230603T221305Z
LAST-MODIFIED:20230603T221305Z
UID:2207-1660244400-1660249800@npsotwilco.org
SUMMARY:IN PERSON & VIRTUAL\, Monthly NPSOT-Wilco Chapter Meeting\, "Xerces Society: Milkweeds & Pollinator Plants" with Ray Moranz
DESCRIPTION:PLEASE NOTE: Our guest speaker will be virtual for attendees\, whether at the library or Zoom.  Free and  open to the public. In person\, 2nd floor\, Georgetown Public Library.  Or to attend via Zoom\, register at https://npsot-org.zoom.us/meeting/register/tZArf-ygrjsqHNTanZ91ZmRuwTrXTRxOhRPq.  For a look at all planned topics\, select “What We Do” on the main menu line at the top of the page\, then select “Chapter Meetings/Speakers.”  The website url is www.npsot.org/wp/wilco
URL:https://npsotwilco.org/event/in-person-virtual-monthly-npsot-wilco-chapter-meeting-xerces-society-milkweeds-pollinator-plants-with-ray-moranz/
LOCATION:TX
END:VEVENT
BEGIN:VEVENT
DTSTART;TZID=America/Chicago:20220714T190000
DTEND;TZID=America/Chicago:20220714T203000
DTSTAMP:20260421T010519
CREATED:20230603T221305Z
LAST-MODIFIED:20230603T221305Z
UID:2206-1657825200-1657830600@npsotwilco.org
SUMMARY:IN PERSON & VIRTUAL\, Monthly NPSOT-Wilco Chapter Meeting\, Annual Meeting\, plus "Landscape Series: Gary Bowers' Yard"
DESCRIPTION:Free and  open to the public. In person\, 2nd floor\, Georgetown Public Library.  Or to attend via Zoom\, register at https://npsot-org.zoom.us/meeting/register/tZErcuisrT8iH9B0F2t56zWv4RaNZn2TCnXS.  For a look at all planned topics\, select “What We Do” on the main menu line at the top of the page\, then select “Chapter Meetings/Speakers.”  The website url is www.npsot.org/wp/wilco
URL:https://npsotwilco.org/event/in-person-virtual-monthly-npsot-wilco-chapter-meeting-annual-meeting-plus-landscape-series-gary-bowers-yard/
LOCATION:TX
END:VEVENT
BEGIN:VEVENT
DTSTART;TZID=America/Chicago:20220611T083000
DTEND;TZID=America/Chicago:20220611T113000
DTSTAMP:20260421T010519
CREATED:20230603T221252Z
LAST-MODIFIED:20230603T221252Z
UID:2201-1654936200-1654947000@npsotwilco.org
SUMMARY:Field Trip: Hidden Springs Preserve
DESCRIPTION:Plant survey visit 5 of 12. The preserve is NOT open to the public (but our field trip is). See directions and important information about when to meet in the blog post published May 12\, 2022. Or check our Field Trips webpage by selecting What We Do on the main page menu\, then selecting Field Trips. All skill levels are welcome.
URL:https://npsotwilco.org/event/field-trip-hidden-springs-preserve-2/
LOCATION:TX
END:VEVENT
BEGIN:VEVENT
DTSTART;TZID=America/Chicago:20220609T190000
DTEND;TZID=America/Chicago:20220609T203000
DTSTAMP:20260421T010519
CREATED:20230603T221252Z
LAST-MODIFIED:20230603T221252Z
UID:2203-1654801200-1654806600@npsotwilco.org
SUMMARY:IN PERSON & VIRTUAL\, Monthly NPSOT-Wilco Chapter Meeting\, Gardening for Bats\, with Erin Cord
DESCRIPTION:Free and  open to the public. In person\, 2nd floor\, Georgetown Public Library.  Or to attend via Zoom\, register at https://npsot-org.zoom.us/meeting/register/tZcof-2upzgpGt2brSsQEXswhvym1CFlUx78.  For a look at all planned topics\, select “What We Do” on the main menu line at the top of the page\, then select “Chapter Meetings/Speakers.”  The website url is www.npsot.org/wp/wilco
URL:https://npsotwilco.org/event/in-person-virtual-monthly-npsot-wilco-chapter-meeting-gardening-for-bats-with-erin-cord/
LOCATION:TX
END:VEVENT
BEGIN:VEVENT
DTSTART;TZID=America/Chicago:20220529T180000
DTEND;TZID=America/Chicago:20220529T190000
DTSTAMP:20260421T010519
CREATED:20230603T221252Z
LAST-MODIFIED:20230603T221252Z
UID:2202-1653847200-1653850800@npsotwilco.org
SUMMARY:Field Trip: Jim Rodgers Trail in Williamson County Southwest Regional Park
DESCRIPTION:A trail walk to see the new and refurbished interpretive plant signs by the chapter.  Free and open to the public.  For where to meet\, see the announcement published May 11\, 2022 on our blog home page https://npsot.org/wp/wilco/ or use the main menu choosing What We Do-> Field Trips.
URL:https://npsotwilco.org/event/field-trip-jim-rodgers-trail-in-williamson-county-southwest-regional-park/
LOCATION:TX
END:VEVENT
BEGIN:VEVENT
DTSTART;TZID=America/Chicago:20220521T093000
DTEND;TZID=America/Chicago:20220521T144500
DTSTAMP:20260421T010519
CREATED:20230603T221252Z
LAST-MODIFIED:20230603T221252Z
UID:2204-1653125400-1653144300@npsotwilco.org
SUMMARY:CANCELLED Field Trip: Lake Waco Wetlands & Waco Mammoth National Monument
DESCRIPTION:This May 21\, 2022 field trip is cancelled due to our guide’s family emergency.  The trip is rescheduled for October 22\, 2022.  For info about field trips\, use the website’s main menu choosing What We Do-> Field Trips.
URL:https://npsotwilco.org/event/cancelled-field-trip-lake-waco-wetlands-waco-mammoth-national-monument/
LOCATION:TX
END:VEVENT
BEGIN:VEVENT
DTSTART;TZID=America/Chicago:20220512T190000
DTEND;TZID=America/Chicago:20220512T203000
DTSTAMP:20260421T010519
CREATED:20230603T221237Z
LAST-MODIFIED:20230603T221237Z
UID:2198-1652382000-1652387400@npsotwilco.org
SUMMARY:IN PERSON & VIRTUAL\, Monthly NPSOT-Wilco Chapter Meeting\, "Riparian Management\, Why Creeks Act the Way they Do" with Ricky Linex
DESCRIPTION:Free and  open to the public. In person\, 2nd floor\, Georgetown Public Library.  Or to attend via Zoom\, register at https://npsot-org.zoom.us/meeting/register/tZUsdOmsrDgtHdBKqQsUUYH4cdjo-5fKLuwW. For a look at all planned topics\, select “What We Do” on the main menu line at the top of the page\, then select “Chapter Meetings/Speakers.”  The website url is www.npsot.org/wp/wilco
URL:https://npsotwilco.org/event/in-person-virtual-monthly-npsot-wilco-chapter-meeting-riparian-management-why-creeks-act-the-way-they-do-with-ricky-linex/
LOCATION:TX
END:VEVENT
BEGIN:VEVENT
DTSTART;TZID=America/Chicago:20220423T100000
DTEND;TZID=America/Chicago:20220423T123000
DTSTAMP:20260421T010519
CREATED:20230603T221237Z
LAST-MODIFIED:20230603T221237Z
UID:2199-1650708000-1650717000@npsotwilco.org
SUMMARY:Field Trip: Native American Seed
DESCRIPTION:Sign up for the trip and find detailed directions to the seed farm in the blog post published March 17\, 2022. The blog home page is https://npsot.org/wp/wilco/. Or use the main menu choosing What We Do-> Field Trips.Our field trips are free and open to the public.
URL:https://npsotwilco.org/event/field-trip-native-american-seed/
LOCATION:TX
END:VEVENT
BEGIN:VEVENT
DTSTART;TZID=America/Chicago:20220414T190000
DTEND;TZID=America/Chicago:20220414T203000
DTSTAMP:20260421T010519
CREATED:20230603T221237Z
LAST-MODIFIED:20230603T221237Z
UID:2196-1649962800-1649968200@npsotwilco.org
SUMMARY:IN PERSON & VIRTUAL\, Monthly NPSOT-Wilco Chapter Meeting\, The Importance of Native Plants for Birds\, with Gil Eckrich
DESCRIPTION:Free and  open to the public. In person\, 2nd floor\, Georgetown Public Library.  Or to attend via Zoom\, register at https://npsot-org.zoom.us/meeting/register/tZYuc-quqTkiGNLMkxDGI3JdPLoRAPBFcI43. For a look at all planned topics\, select “What We Do” on the main menu line at the top of the page\, then select “Chapter Meetings/Speakers.”  The website url is www.npsot.org/wp/wilco
URL:https://npsotwilco.org/event/in-person-virtual-monthly-npsot-wilco-chapter-meeting-the-importance-of-native-plants-for-birds-with-gil-eckrich/
LOCATION:TX
END:VEVENT
BEGIN:VEVENT
DTSTART;TZID=America/Chicago:20220409T130000
DTEND;TZID=America/Chicago:20220409T160000
DTSTAMP:20260421T010519
CREATED:20230603T221210Z
LAST-MODIFIED:20230613T160334Z
UID:2187-1649509200-1649520000@npsotwilco.org
SUMMARY:Volunteer: Family Nature Fest@Garey Park
DESCRIPTION:Attend to enjoy the festivities. Stop by the NPSOT-Wilco booth to visit. See Georgetown Parks & Rec site for details=> https://parks.georgetown.org/family-nature-fest/
URL:https://npsotwilco.org/event/family-nature-festgarey-park/
LOCATION:TX
END:VEVENT
BEGIN:VEVENT
DTSTART;TZID=America/Chicago:20220406T170000
DTEND;TZID=America/Chicago:20220406T180000
DTSTAMP:20260421T010519
CREATED:20230603T221237Z
LAST-MODIFIED:20230603T221237Z
UID:2197-1649264400-1649268000@npsotwilco.org
SUMMARY:Board Meeting
DESCRIPTION:
URL:https://npsotwilco.org/event/board-meeting/
LOCATION:TX
END:VEVENT
BEGIN:VEVENT
DTSTART;TZID=America/Chicago:20220402T090000
DTEND;TZID=America/Chicago:20220402T120000
DTSTAMP:20260421T010519
CREATED:20230603T221210Z
LAST-MODIFIED:20230613T160346Z
UID:2188-1648890000-1648900800@npsotwilco.org
SUMMARY:Volunteer: Workday at Landfill Pollinator Garden
DESCRIPTION:You do not need to sign up. Bring your own cutting and digging tools and dress for the weather. Water and snacks will be provided. Park in the lot at the Recycling Center across the street from the garden. The garden is at the entrance to the Williamson County Landfill\, at the corner of FM 1660 and Landfill Road\, in Hutto\, TX.
URL:https://npsotwilco.org/event/workday-at-landfill-pollinator-garden/
LOCATION:TX
END:VEVENT
BEGIN:VEVENT
DTSTART;TZID=America/Chicago:20220326T100000
DTEND;TZID=America/Chicago:20220326T150000
DTSTAMP:20260421T010519
CREATED:20230603T221210Z
LAST-MODIFIED:20230603T221220Z
UID:2190-1648288800-1648306800@npsotwilco.org
SUMMARY:NPSOT-Wilco Plant Sale @ Berry Springs Park & Preserve
DESCRIPTION:One day only. At the park’s Tonkawa Pavilion (main group pavilion). Open to the public. Park entrance is free.
URL:https://npsotwilco.org/event/npsot-wilco-plant-sale-berry-springs-park-preserve/
LOCATION:TX
END:VEVENT
BEGIN:VEVENT
DTSTART;TZID=America/Chicago:20220324T180000
DTEND;TZID=America/Chicago:20220324T200000
DTSTAMP:20260421T010519
CREATED:20230603T221210Z
LAST-MODIFIED:20230613T160357Z
UID:2189-1648144800-1648152000@npsotwilco.org
SUMMARY:Volunteer: Fern Bluff Elementary\, Spring Science Night
DESCRIPTION:(Rescheduled from January 2022.) We’ll have a NPSOT-Wilco booth and give out free plants.
URL:https://npsotwilco.org/event/volunteering-fern-bluff-elementary-spring-science-night/
LOCATION:TX
END:VEVENT
BEGIN:VEVENT
DTSTART;TZID=America/Chicago:20220319T093000
DTEND;TZID=America/Chicago:20220319T120000
DTSTAMP:20260421T010519
CREATED:20230603T221206Z
LAST-MODIFIED:20230603T221206Z
UID:2183-1647682200-1647691200@npsotwilco.org
SUMMARY:Field Trip: Gault Site
DESCRIPTION:Details will be posted on our website closer to the date and added to this calendar entry. Everyone is welcome. Our field trips are free and open to the public.
URL:https://npsotwilco.org/event/field-trip-gault-site/
LOCATION:TX
END:VEVENT
BEGIN:VEVENT
DTSTART;TZID=America/Chicago:20220310T190000
DTEND;TZID=America/Chicago:20220310T203000
DTSTAMP:20260421T010519
CREATED:20230603T221206Z
LAST-MODIFIED:20230603T221206Z
UID:2185-1646938800-1646944200@npsotwilco.org
SUMMARY:IN PERSON & VIRTUAL\, Monthly NPSOT-Wilco Chapter Meeting\, Landscaping with Native Plants in Williamson County
DESCRIPTION:In person\, 2nd floor\, Georgetown Public Library\, or attend via Zoom by registering at https://npsot-org.zoom.us/meeting/register/tZAkfu2pqTgpGNGjNZaMMRdBiH05pYx2we5Q. For a look at all planned topics\, select “What We Do” on the main menu line at the top of the page\, then select “Chapter Meetings/Speakers.”  The website url is www.npsot.org/wp/wilco
URL:https://npsotwilco.org/event/in-person-virtual-monthly-npsot-wilco-chapter-meeting-landscaping-with-native-plants-in-williamson-county/
LOCATION:TX
END:VEVENT
BEGIN:VEVENT
DTSTART;TZID=America/Chicago:20220305T084500
DTEND;TZID=America/Chicago:20220305T153000
DTSTAMP:20260421T010519
CREATED:20230603T221209Z
LAST-MODIFIED:20230603T221220Z
UID:2186-1646469900-1646494200@npsotwilco.org
SUMMARY:Online NPSOT Spring Symposium
DESCRIPTION:See the blog post published on February 4\, 2022 for the agenda and the link to register. Proceeds benefit NPSOT and the Lady Bird Johnson Wildflower Center.
URL:https://npsotwilco.org/event/online-npsot-spring-symposium/
LOCATION:TX
END:VEVENT
BEGIN:VEVENT
DTSTART;TZID=America/Chicago:20220213T133000
DTEND;TZID=America/Chicago:20220213T163000
DTSTAMP:20260421T010519
CREATED:20230603T221206Z
LAST-MODIFIED:20230603T221206Z
UID:2182-1644759000-1644769800@npsotwilco.org
SUMMARY:Field Trip: Hidden Springs Preserve
DESCRIPTION:Plant survey visit 4 of 12. The preserve is NOT open to the public (but our field trip is). See important information and directions in the blog post published on January 13\, 2022\, or check our Field Trips webpage. From the website’s main menu select What We Do\, then select Field Trips. All skill levels are welcome.
URL:https://npsotwilco.org/event/field-trip-hidden-springs-preserve/
LOCATION:TX
END:VEVENT
BEGIN:VEVENT
DTSTART;TZID=America/Chicago:20220210T190000
DTEND;TZID=America/Chicago:20220210T203000
DTSTAMP:20260421T010519
CREATED:20230603T221206Z
LAST-MODIFIED:20230603T221206Z
UID:2184-1644519600-1644525000@npsotwilco.org
SUMMARY:IN PERSON & VIRTUAL\, Monthly NPSOT-Wilco Chapter Meeting\, Still Learning to Propagate Native Plants\, with Barbara Wright
DESCRIPTION:In person\, 2nd floor\, Georgetown Public Library. To attend via Zoom register at https://npsot-org.zoom.us/meeting/register/tZ0uf-2hpjstEtaqHa3S94BQ99xr_FB8ZhIz. For a look at all planned topics\, select “What We Do” on the main menu line at the top of the page\, then select “Chapter Meetings/Speakers.”  The website url is www.npsot.org/wp/wilco
URL:https://npsotwilco.org/event/in-person-virtual-monthly-npsot-wilco-chapter-meeting-still-learning-to-propagate-native-plants-with-barbara-wright/
LOCATION:TX
END:VEVENT
BEGIN:VEVENT
DTSTART;TZID=America/Chicago:20220113T190000
DTEND;TZID=America/Chicago:20220113T203000
DTSTAMP:20260421T010519
CREATED:20230603T221252Z
LAST-MODIFIED:20230603T221252Z
UID:2205-1642100400-1642105800@npsotwilco.org
SUMMARY:IN PERSON & VIRTUAL\, Monthly NPSOT-Wilco Chapter Meeting\, Attracting Insects to Your Garden\, with Wizzie Brown
DESCRIPTION:In person\, 2nd floor\, Georgetown Public Library.  To attend via Zoom register at  https://npsot-org.zoom.us/meeting/register/tZ0ldO6srzIuHNfUG_FDoN5kvwe0taodJ3XC. For a look at all planned topics\, select “What We Do” on the main menu line at the top of the page\, then select “Chapter Meetings/Speakers.”  The website url is www.npsot.org/wp/wilco
URL:https://npsotwilco.org/event/in-person-virtual-monthly-npsot-wilco-chapter-meeting-attracting-insects-to-your-garden-with-wizzie-brown/
LOCATION:TX
END:VEVENT
BEGIN:VEVENT
DTSTART;TZID=America/Chicago:20220101T110000
DTEND;TZID=America/Chicago:20220101T123000
DTSTAMP:20260421T010519
CREATED:20230603T221206Z
LAST-MODIFIED:20230603T221206Z
UID:2181-1641034800-1641040200@npsotwilco.org
SUMMARY:Field Trip: Tree Walk at Old Settlers Park
DESCRIPTION:Open to the public. Meet at the Northwest Parking Lot of Dell Diamond. Directions from Interstate 35:  Go east on Palm Valley Blvd (US 79) for 3.3 miles;  turn left on Harrell Parkway for 0.3 miles. Turn right into Dell Diamond Parking Lot across from Old Settlers RV Park.
URL:https://npsotwilco.org/event/field-trip-tree-walk-at-old-settlers-park/
LOCATION:TX
END:VEVENT
END:VCALENDAR