BEGIN:VCALENDAR
VERSION:2.0
PRODID:-//NPSOT-Williamson County Chapter - ECPv6.15.20//NONSGML v1.0//EN
CALSCALE:GREGORIAN
METHOD:PUBLISH
X-WR-CALNAME:NPSOT-Williamson County Chapter
X-ORIGINAL-URL:https://npsotwilco.org
X-WR-CALDESC:Events for NPSOT-Williamson County Chapter
REFRESH-INTERVAL;VALUE=DURATION:PT1H
X-Robots-Tag:noindex
X-PUBLISHED-TTL:PT1H
BEGIN:VTIMEZONE
TZID:America/Chicago
BEGIN:DAYLIGHT
TZOFFSETFROM:-0600
TZOFFSETTO:-0500
TZNAME:CDT
DTSTART:20210314T080000
END:DAYLIGHT
BEGIN:STANDARD
TZOFFSETFROM:-0500
TZOFFSETTO:-0600
TZNAME:CST
DTSTART:20211107T070000
END:STANDARD
BEGIN:DAYLIGHT
TZOFFSETFROM:-0600
TZOFFSETTO:-0500
TZNAME:CDT
DTSTART:20220313T080000
END:DAYLIGHT
BEGIN:STANDARD
TZOFFSETFROM:-0500
TZOFFSETTO:-0600
TZNAME:CST
DTSTART:20221106T070000
END:STANDARD
BEGIN:DAYLIGHT
TZOFFSETFROM:-0600
TZOFFSETTO:-0500
TZNAME:CDT
DTSTART:20230312T080000
END:DAYLIGHT
BEGIN:STANDARD
TZOFFSETFROM:-0500
TZOFFSETTO:-0600
TZNAME:CST
DTSTART:20231105T070000
END:STANDARD
BEGIN:DAYLIGHT
TZOFFSETFROM:-0600
TZOFFSETTO:-0500
TZNAME:CDT
DTSTART:20240310T080000
END:DAYLIGHT
BEGIN:STANDARD
TZOFFSETFROM:-0500
TZOFFSETTO:-0600
TZNAME:CST
DTSTART:20241103T070000
END:STANDARD
END:VTIMEZONE
BEGIN:VEVENT
DTSTART;TZID=America/Chicago:20230610T090000
DTEND;TZID=America/Chicago:20230610T120000
DTSTAMP:20260420T214329
CREATED:20230603T224349Z
LAST-MODIFIED:20230603T230233Z
UID:2247-1686387600-1686398400@npsotwilco.org
SUMMARY:Field Trip: Tejas Park
DESCRIPTION:Join NPSOT-Wilco on our June field trip. Free and open to the public. \n\nWhat: Exploring wildflowers and native plants in the Army Corps of Engineers park on Lake Georgetown.\nWhen: Saturday\, June 10\, 2023\, 9:00am-noon\nWhere: Tejas Park\, 4562 County Rd 258\, Liberty Hill\, TX\n\nBe prepared to walk on unimproved trails and road.  Wear sturdy walking shoes\, a hat\, sun screen and bring water and bug spray.  There is limited potable water available.  There are vault toilets. \nReservations are not required. Please feel free to contact Kathy Galloway using the form at Contact Us beforehand if you have any questions.  The trips are a great way to see native plants in their habitat and learn with other members.  All ages and levels of knowledge are welcome. \nSee additional details in the announcement post published on May 10\, 2023.
URL:https://npsotwilco.org/event/field-trip-tejas-park/
LOCATION:Tejas Park\, 4562 Co Rd 258\, Liberty Hill\, Texas\, 78642
END:VEVENT
BEGIN:VEVENT
DTSTART;TZID=America/Chicago:20230608T190000
DTEND;TZID=America/Chicago:20230608T203000
DTSTAMP:20260420T214329
CREATED:20230603T223940Z
LAST-MODIFIED:20230603T225742Z
UID:2242-1686250800-1686256200@npsotwilco.org
SUMMARY:NPSOT-Wilco Chapter Meeting\, "Living Soil: The World Beneath Our Feet" with Jim Williams
DESCRIPTION:Free and open to the public. In person or attend via Zoom.  In person\, 2nd floor\, Georgetown Public Library. To attend via Zoom instead of in person\, register at https://npsot-org.zoom.us/meeting/register/tZUrcOGvqDsqHtGoN0st66ntnbAbzkplFoX7#/registration \nSee our announcement post here.
URL:https://npsotwilco.org/event/npsot-wilco-chapter-meeting-living-soil-the-world-beneath-our-feet-with-jim-williams/
LOCATION:Georgetown Public Library\, 402 W 8th St\, Georgetown\, TX\, 78626
END:VEVENT
BEGIN:VEVENT
DTSTART;TZID=America/Chicago:20230528T100000
DTEND;TZID=America/Chicago:20230528T140000
DTSTAMP:20260420T214329
CREATED:20230603T222754Z
LAST-MODIFIED:20230613T160130Z
UID:2238-1685268000-1685282400@npsotwilco.org
SUMMARY:Volunteer: Conservation Plant Rescue\, NW Leander
DESCRIPTION:NPSOT members & over 18 only. Two shifts: 10am-noon and noon-2pm. For the link to signup\, see the blog post published May 23\, 2023.
URL:https://npsotwilco.org/event/conservation-plant-rescue-nw-leander/
END:VEVENT
BEGIN:VEVENT
DTSTART;TZID=America/Chicago:20230520T110000
DTEND;TZID=America/Chicago:20230520T133000
DTSTAMP:20260420T214329
CREATED:20230603T222414Z
LAST-MODIFIED:20230613T160143Z
UID:2236-1684580400-1684589400@npsotwilco.org
SUMMARY:Volunteer: Native Plant Rescue\, Round Rock
DESCRIPTION:NPSOT members only. For the link to signup\, see the blog post published May 15\, 2023.
URL:https://npsotwilco.org/event/native-plant-rescue-round-rock-3/
END:VEVENT
BEGIN:VEVENT
DTSTART;TZID=America/Chicago:20230511T190000
DTEND;TZID=America/Chicago:20230511T203000
DTSTAMP:20260420T214329
CREATED:20230603T221422Z
LAST-MODIFIED:20230603T221422Z
UID:2234-1683831600-1683837000@npsotwilco.org
SUMMARY:NPSOT-Wilco Chapter Meeting\, "Medicinal Applications of Native Plants by Native Americans" with Ricky Linex
DESCRIPTION:Free and  open to the public. In person\, 2nd floor\, Georgetown Public Library\, or attend via Zoom. See the Zoom link in the meeting announcement published April 20\, 2023. 
URL:https://npsotwilco.org/event/npsot-wilco-chapter-meeting-medicinal-applications-of-native-plants-by-native-americans-with-ricky-linex/
END:VEVENT
BEGIN:VEVENT
DTSTART;TZID=America/Chicago:20230508T170000
DTEND;TZID=America/Chicago:20230508T190000
DTSTAMP:20260420T214329
CREATED:20230603T221422Z
LAST-MODIFIED:20230706T001131Z
UID:2235-1683565200-1683572400@npsotwilco.org
SUMMARY:Volunteer: Native Plant Rescue\, Round Rock
DESCRIPTION:NPSOT members only. For the link to signup\, see the blog post published May 5\, 2023 on https://npsotwilco.org
URL:https://npsotwilco.org/event/native-plant-rescue-round-rock-2/
END:VEVENT
BEGIN:VEVENT
DTSTART;TZID=America/Chicago:20230429T100000
DTEND;TZID=America/Chicago:20230429T120000
DTSTAMP:20260420T214329
CREATED:20230603T221422Z
LAST-MODIFIED:20230603T221422Z
UID:2231-1682762400-1682769600@npsotwilco.org
SUMMARY:Field Trip: Phil Hardberger Park
DESCRIPTION:ARRIVE AT 9:45am. Free and open to the public but please RSVP by April 27 for this guided tour. See details and the RSVP form in the blog post published April 3\, 2023.
URL:https://npsotwilco.org/event/field-trip-phil-hardberger-park/
END:VEVENT
BEGIN:VEVENT
DTSTART;TZID=America/Chicago:20230423T100000
DTEND;TZID=America/Chicago:20230423T130000
DTSTAMP:20260420T214329
CREATED:20230603T221422Z
LAST-MODIFIED:20230603T221422Z
UID:2233-1682244000-1682254800@npsotwilco.org
SUMMARY:Native Plant Rescue\, Round Rock
DESCRIPTION:NPSOT members only. See the blog post published April 19\, 2023.
URL:https://npsotwilco.org/event/native-plant-rescue-round-rock/
END:VEVENT
BEGIN:VEVENT
DTSTART;TZID=America/Chicago:20230413T190000
DTEND;TZID=America/Chicago:20230413T203000
DTSTAMP:20260420T214329
CREATED:20230603T221422Z
LAST-MODIFIED:20230603T221422Z
UID:2232-1681412400-1681417800@npsotwilco.org
SUMMARY:NPSOT-Wilco Chapter Meeting\, "Cacti of Texas" with Brian Loflin
DESCRIPTION:Free and  open to the public. In person\, 2nd floor\, Georgetown Public Library\, or attend via Zoom. See the Zoom link in the meeting announcement posts published March 23 and April 6\, 2023. 
URL:https://npsotwilco.org/event/npsot-wilco-chapter-meeting-cacti-of-texas-with-brian-loflin/
END:VEVENT
BEGIN:VEVENT
DTSTART;TZID=America/Chicago:20230402T100000
DTEND;TZID=America/Chicago:20230402T130000
DTSTAMP:20260420T214329
CREATED:20230603T221405Z
LAST-MODIFIED:20230613T160155Z
UID:2230-1680429600-1680440400@npsotwilco.org
SUMMARY:Volunteer: Native Plant Rescue\, Liberty Hill area
DESCRIPTION:NPSOT members only. See the blog post published March 24\, 2023.
URL:https://npsotwilco.org/event/native-plant-rescue-liberty-hill-area/
END:VEVENT
BEGIN:VEVENT
DTSTART;TZID=America/Chicago:20230401T110000
DTEND;TZID=America/Chicago:20230401T140000
DTSTAMP:20260420T214329
CREATED:20230603T221405Z
LAST-MODIFIED:20230603T221405Z
UID:2228-1680346800-1680357600@npsotwilco.org
SUMMARY:NPSOT-Wilco LIVE in-person Native Plant Sale
DESCRIPTION:Our LIVE native plant sale and the pickup window for plants that were ordered in our ONLINE sale held March 18-22\, 2023. See important information in the blog post published March 4\, 2023 about this LIVE sale and pickup instructions for the online sale.
URL:https://npsotwilco.org/event/npsot-wilco-live-in-person-native-plant-sale/
END:VEVENT
BEGIN:VEVENT
DTSTART;TZID=America/Chicago:20230325T093000
DTEND;TZID=America/Chicago:20230325T123000
DTSTAMP:20260420T214329
CREATED:20230603T221405Z
LAST-MODIFIED:20240722T175008Z
UID:2229-1679736600-1679747400@npsotwilco.org
SUMMARY:Volunteer: Native Plant Rescue\, Sun City area
DESCRIPTION:NPSOT members only. See the blog post published March 20\, 2023.
URL:https://npsotwilco.org/event/native-plant-rescue-sun-city-area/
END:VEVENT
BEGIN:VEVENT
DTSTART;TZID=America/Chicago:20230325T093000
DTEND;TZID=America/Chicago:20230325T120000
DTSTAMP:20260420T214329
CREATED:20230603T221405Z
LAST-MODIFIED:20230622T163228Z
UID:2227-1679736600-1679745600@npsotwilco.org
SUMMARY:Field Trip: Hidden Springs Preserve
DESCRIPTION:Plant survey visit 7 of 12. The preserve is NOT open to the public (but our field trip is). See directions and important information about meeting in the blog post published March 5\, 2023. All skill levels are welcome.
URL:https://npsotwilco.org/event/field-trip-hidden-springs-preserve-4/
LOCATION:Hidden Springs Preserve\, 978 Co Rd 224\, Florence\, Texas\, 76527
END:VEVENT
BEGIN:VEVENT
DTSTART;TZID=America/Chicago:20230322T000000
DTEND;TZID=America/Chicago:20230323T000000
DTSTAMP:20260420T214329
CREATED:20230603T221405Z
LAST-MODIFIED:20230603T221405Z
UID:2226-1679443200-1679529600@npsotwilco.org
SUMMARY:March 18-22\, NPSOT-Wilco ONLINE Native Plant Sale
DESCRIPTION:Ordering form opens 7:00am on Saturday\, March 18. Ordering closes at 11:59pm (midnight) on Wednesday\, March 22. See important information in the blog post published March 4\, 2023 about this ONLINE sale and our April 1st LIVE native plant sale.
URL:https://npsotwilco.org/event/march-18-22-npsot-wilco-online-native-plant-sale/
END:VEVENT
BEGIN:VEVENT
DTSTART;TZID=America/Chicago:20230309T190000
DTEND;TZID=America/Chicago:20230309T203000
DTSTAMP:20260420T214329
CREATED:20230603T221352Z
LAST-MODIFIED:20230603T221352Z
UID:2225-1678388400-1678393800@npsotwilco.org
SUMMARY:NPSOT-Wilco Chapter Meeting\, "Identification and Reporting of Invasive Pests in Texas Landscapes" with Ashley Morgan-Olivera
DESCRIPTION:Free and  open to the public. In person\, 2nd floor\, Georgetown Public Library\, or attend via Zoom https://npsot-org.zoom.us/meeting/register/tZAkcOmtrzkoHNVIjwHNcCEMOVmhPnE2hc2U.  The elevator may/may not be working.
URL:https://npsotwilco.org/event/npsot-wilco-chapter-meeting-identification-and-reporting-of-invasive-pests-in-texas-landscapes-with-ashley-morgan-olivera/
END:VEVENT
BEGIN:VEVENT
DTSTART;TZID=America/Chicago:20230309T170000
DTEND;TZID=America/Chicago:20230309T193000
DTSTAMP:20260420T214329
CREATED:20230603T221352Z
LAST-MODIFIED:20230613T160229Z
UID:2223-1678381200-1678390200@npsotwilco.org
SUMMARY:Volunteer: Fern Bluff Elementary STEAM Night
DESCRIPTION:See Contact Us to volunteer. Prep plant plugs a couple days before the event. Work the chapter table at the event handing out plants and brochures.
URL:https://npsotwilco.org/event/volunteering-fern-bluff-elementary-steam-night/
END:VEVENT
BEGIN:VEVENT
DTSTART;TZID=America/Chicago:20230226T133000
DTEND;TZID=America/Chicago:20230226T160000
DTSTAMP:20260420T214329
CREATED:20230603T221352Z
LAST-MODIFIED:20230603T221352Z
UID:2221-1677418200-1677427200@npsotwilco.org
SUMMARY:Field Trip: Doeskin Ranch\, Balcones Canyonlands National Wildlife Refuge
DESCRIPTION:Come dressed appropriately for the weather. Bring your own water (there is no water available at the trailhead)\, sunscreen\, hat\, walking stick\, etc. Wear sturdy shoes. Most of the trails are unimproved. There are vault toilets at the trailhead. The field trip is open to the public and there is no charge. All ages are welcome. Reservations are not required.
URL:https://npsotwilco.org/event/field-trip-doeskin-ranch-balcones-canyonlands-national-wildlife-refuge/
END:VEVENT
BEGIN:VEVENT
DTSTART;TZID=America/Chicago:20230225T000000
DTEND;TZID=America/Chicago:20230226T000000
DTSTAMP:20260420T214329
CREATED:20230603T221352Z
LAST-MODIFIED:20230613T160241Z
UID:2222-1677283200-1677369600@npsotwilco.org
SUMMARY:Volunteer: Georgetown Water Conservation Summit
DESCRIPTION:See Contact Us to volunteer. Prep bluebonnet plugs a couple of days before the summit. Work at the chapter table during the event handing out plugs and brochures. Hours tbd.
URL:https://npsotwilco.org/event/volunteering-georgetown-water-conservation-summit/
END:VEVENT
BEGIN:VEVENT
DTSTART;TZID=America/Chicago:20230209T190000
DTEND;TZID=America/Chicago:20230209T203000
DTSTAMP:20260420T214329
CREATED:20230603T221352Z
LAST-MODIFIED:20230603T221352Z
UID:2224-1675969200-1675974600@npsotwilco.org
SUMMARY:NPSOT-Wilco Chapter Meeting\, "Native Host Plants for Texas Moths" with Jim & Lynne Weber
DESCRIPTION:Note: 1) this month’s guest speakers will join via Zoom\, and 2) we received notice that the elevator at the library is out for several weeks. It may not be available for this meeting.Free and open to the public. In person\, 2nd floor\, Georgetown Public Library.  To attend via Zoom\, register at the link shown on the website under What We Do\, then select Chapter Meetings/Speakers. 
URL:https://npsotwilco.org/event/npsot-wilco-chapter-meeting-native-host-plants-for-texas-moths-with-jim-lynne-weber/
END:VEVENT
BEGIN:VEVENT
DTSTART;TZID=America/Chicago:20230112T190000
DTEND;TZID=America/Chicago:20230112T203000
DTSTAMP:20260420T214329
CREATED:20230603T221335Z
LAST-MODIFIED:20230603T221335Z
UID:2220-1673550000-1673555400@npsotwilco.org
SUMMARY:IN PERSON & VIRTUAL\, Monthly NPSOT-Wilco Chapter Meeting\, "Bicycling with Butterflies" with Sara Dykman
DESCRIPTION:Free and  open to the public. Our guest speaker will be remote via Zoom. Meet in person\, 2nd floor\, Georgetown Public Library.  Or to attend via Zoom\, register at https://npsot-org.zoom.us/meeting/register/tZAkdeyurjItGtDES-FdrnUTxel7_bac0OZS. For a look at all planned topics\, select “What We Do” on the main menu line at the top of the page\, then select “Chapter Meetings/Speakers.” 
URL:https://npsotwilco.org/event/in-person-virtual-monthly-npsot-wilco-chapter-meeting-bicycling-with-butterflies-with-sara-dykman/
END:VEVENT
BEGIN:VEVENT
DTSTART;TZID=America/Chicago:20230101T130000
DTEND;TZID=America/Chicago:20230101T153000
DTSTAMP:20260420T214329
CREATED:20230603T221335Z
LAST-MODIFIED:20230603T221335Z
UID:2219-1672578000-1672587000@npsotwilco.org
SUMMARY:Field Trip: New Year's Day Tree Walk
DESCRIPTION:Starting from the Rabb Pavilion in Old Settlers Park. Details in the blog announcement published December 1\, 2022 Or check our Field Trips page by selecting What We Do on the main page menu\, then selecting Field Trips.
URL:https://npsotwilco.org/event/field-trip-new-years-day-tree-walk/
END:VEVENT
BEGIN:VEVENT
DTSTART;TZID=America/Chicago:20221210T130000
DTEND;TZID=America/Chicago:20221210T153000
DTSTAMP:20260420T214329
CREATED:20230603T221335Z
LAST-MODIFIED:20230603T221335Z
UID:2218-1670677200-1670686200@npsotwilco.org
SUMMARY:Field Trip: Hidden Springs Preserve
DESCRIPTION:Plant survey visit 6 of 12. The preserve is NOT open to the public (but our field trip is). See directions and important information about meeting in the blog post published November 23\, 2022. Or check our Field Trips webpage by selecting What We Do on the main page menu\, then selecting Field Trips. All skill levels are welcome.
URL:https://npsotwilco.org/event/field-trip-hidden-springs-preserve-3/
END:VEVENT
BEGIN:VEVENT
DTSTART;TZID=America/Chicago:20221208T190000
DTEND;TZID=America/Chicago:20221208T203000
DTSTAMP:20260420T214329
CREATED:20230603T221335Z
LAST-MODIFIED:20230603T221335Z
UID:2217-1670526000-1670531400@npsotwilco.org
SUMMARY:IN PERSON only\, NPSOT-Wilco Annual Holiday Gathering and Silent Auction
DESCRIPTION:Free and  open to the public. In person\, 2nd floor\, Georgetown Public Library.  For a look at future topics\, select “What We Do” on the main menu line at the top of the page\, then select “Chapter Meetings/Speakers.”  The website url is www.npsot.org/wp/wilco
URL:https://npsotwilco.org/event/in-person-only-npsot-wilco-annual-holiday-gathering-and-silent-auction/
END:VEVENT
BEGIN:VEVENT
DTSTART;TZID=America/Chicago:20221125T130000
DTEND;TZID=America/Chicago:20221125T153000
DTSTAMP:20260420T214329
CREATED:20230603T221335Z
LAST-MODIFIED:20230603T221335Z
UID:2216-1669381200-1669390200@npsotwilco.org
SUMMARY:Field Trip: Black Friday Opt-Outside\, Seek Nature not the Mall
DESCRIPTION:Black Friday Opt-Outside\, Seek Nature not the Mall. Lake George Spillway Trail\, south side of the Lake Georgetown Dam. See the blog announcement published on November 8\, 2022.
URL:https://npsotwilco.org/event/field-trip-black-friday-opt-outside-seek-nature-not-the-mall/
END:VEVENT
BEGIN:VEVENT
DTSTART;TZID=America/Chicago:20221113T130000
DTEND;TZID=America/Chicago:20221113T160000
DTSTAMP:20260420T214329
CREATED:20230603T221322Z
LAST-MODIFIED:20230613T160255Z
UID:2215-1668344400-1668355200@npsotwilco.org
SUMMARY:Volunteer: Plant Rescue
DESCRIPTION:New Hope Rd right of way.
URL:https://npsotwilco.org/event/plant-rescue/
END:VEVENT
BEGIN:VEVENT
DTSTART;TZID=America/Chicago:20221110T190000
DTEND;TZID=America/Chicago:20221110T203000
DTSTAMP:20260420T214329
CREATED:20230603T221322Z
LAST-MODIFIED:20230603T221322Z
UID:2213-1668106800-1668112200@npsotwilco.org
SUMMARY:IN PERSON & VIRTUAL\, Monthly NPSOT-Wilco Chapter Meeting\, "Fibonacci Sequence and Native Plants" with Diana Wilson
DESCRIPTION:Free and  open to the public. Note that this month we meet at the ROUND ROCK PUBLIC LIBRARY.  Or  attend via Zoom by registering at https://npsot-org.zoom.us/meeting/register/tZIod-mrrD4qHdyO0H0e1Vn_MN-GVh_S1Rzl. For a look at all planned topics\, select “What We Do” on the main menu line at the top of the page\, then select “Chapter Meetings/Speakers.”  The website url is www.npsot.org/wp/wilco
URL:https://npsotwilco.org/event/in-person-virtual-monthly-npsot-wilco-chapter-meeting-fibonacci-sequence-and-native-plants-with-diana-wilson/
END:VEVENT
BEGIN:VEVENT
DTSTART;TZID=America/Chicago:20221029T093000
DTEND;TZID=America/Chicago:20221029T120000
DTSTAMP:20260420T214329
CREATED:20230603T221322Z
LAST-MODIFIED:20230603T221322Z
UID:2214-1667035800-1667044800@npsotwilco.org
SUMMARY:Field Trip: Round Rock HS and Member Garden Tour
DESCRIPTION:Tour Round Rock High School’s and chapter members’ native gardens. See details in the blog post published October 26\, 2022\, or the original announcement published on August 31\, 2022.
URL:https://npsotwilco.org/event/field-trip-round-rock-hs-and-member-garden-tour/
END:VEVENT
BEGIN:VEVENT
DTSTART;TZID=America/Chicago:20221022T100000
DTEND;TZID=America/Chicago:20221022T140000
DTSTAMP:20260420T214329
CREATED:20230603T221322Z
LAST-MODIFIED:20230603T221322Z
UID:2211-1666432800-1666447200@npsotwilco.org
SUMMARY:NPSOT-Wilco Fall Plant Sale Pick Up Day
DESCRIPTION:Plant pickup is only for those who completed an online order during the order window Oct 8-12. There will be no onsite sales. The window of time for you to pick up your confirmed order and a map to the exact building location will be sent to your email once your order is confirmed. For details\, see the blog post published Oct 1\, “NPSOT-Williamson County Fall 2022 Online Plant Sale.”
URL:https://npsotwilco.org/event/npsot-wilco-fall-plant-sale-pick-up-day/
END:VEVENT
BEGIN:VEVENT
DTSTART;TZID=America/Chicago:20221013T190000
DTEND;TZID=America/Chicago:20221013T203000
DTSTAMP:20260420T214329
CREATED:20230603T221305Z
LAST-MODIFIED:20230603T221305Z
UID:2210-1665687600-1665693000@npsotwilco.org
SUMMARY:IN PERSON & VIRTUAL\, Monthly NPSOT-Wilco Chapter Meeting\, "Fire Resistant Landscaping" with Camille Wiseman
DESCRIPTION:Free and  open to the public. In person\, 2nd floor\, Georgetown Public Library.  Or to attend via Zoom\, register at https://npsot-org.zoom.us/meeting/register/tZMpf-GtrzgoHtDfyLdyul4Lew282yVY1D4H. For a look at all planned topics\, select “What We Do” on the main menu line at the top of the page\, then select “Chapter Meetings/Speakers.”  The website url is www.npsot.org/wp/wilco
URL:https://npsotwilco.org/event/in-person-virtual-monthly-npsot-wilco-chapter-meeting-fire-resistant-landscaping-with-camille-wiseman/
END:VEVENT
BEGIN:VEVENT
DTSTART;TZID=America/Chicago:20221012T000000
DTEND;TZID=America/Chicago:20221013T000000
DTSTAMP:20260420T214329
CREATED:20230603T221322Z
LAST-MODIFIED:20230603T221322Z
UID:2212-1665532800-1665619200@npsotwilco.org
SUMMARY:Oct 8-12\, NPSOT-Wilco Fall Plant Sale Order Window
DESCRIPTION:This fall’s plant sale is online only. October 12 is the last day to order. The chapter will take orders October 8-12. See our blog post published Oct 1 for the list of available plants and how to order (post titled “NPSOT-Williamson County Fall 2022 Online Plant Sale”). Pickup is on Oct 22\, only for those who completed an online order during the order window Oct 8-12. There will be no onsite sales.
URL:https://npsotwilco.org/event/oct-8-12-npsot-wilco-fall-plant-sale-order-window/
END:VEVENT
END:VCALENDAR