BEGIN:VCALENDAR
VERSION:2.0
PRODID:-//NPSOT-Williamson County Chapter - ECPv6.15.20//NONSGML v1.0//EN
CALSCALE:GREGORIAN
METHOD:PUBLISH
X-WR-CALNAME:NPSOT-Williamson County Chapter
X-ORIGINAL-URL:https://npsotwilco.org
X-WR-CALDESC:Events for NPSOT-Williamson County Chapter
REFRESH-INTERVAL;VALUE=DURATION:PT1H
X-Robots-Tag:noindex
X-PUBLISHED-TTL:PT1H
BEGIN:VTIMEZONE
TZID:America/Chicago
BEGIN:DAYLIGHT
TZOFFSETFROM:-0600
TZOFFSETTO:-0500
TZNAME:CDT
DTSTART:20240310T080000
END:DAYLIGHT
BEGIN:STANDARD
TZOFFSETFROM:-0500
TZOFFSETTO:-0600
TZNAME:CST
DTSTART:20241103T070000
END:STANDARD
BEGIN:DAYLIGHT
TZOFFSETFROM:-0600
TZOFFSETTO:-0500
TZNAME:CDT
DTSTART:20250309T080000
END:DAYLIGHT
BEGIN:STANDARD
TZOFFSETFROM:-0500
TZOFFSETTO:-0600
TZNAME:CST
DTSTART:20251102T070000
END:STANDARD
BEGIN:DAYLIGHT
TZOFFSETFROM:-0600
TZOFFSETTO:-0500
TZNAME:CDT
DTSTART:20260308T080000
END:DAYLIGHT
BEGIN:STANDARD
TZOFFSETFROM:-0500
TZOFFSETTO:-0600
TZNAME:CST
DTSTART:20261101T070000
END:STANDARD
END:VTIMEZONE
BEGIN:VEVENT
DTSTART;TZID=America/Chicago:20250911T190000
DTEND;TZID=America/Chicago:20250911T203000
DTSTAMP:20260422T190935
CREATED:20250522T120412Z
LAST-MODIFIED:20250821T195412Z
UID:5159-1757617200-1757622600@npsotwilco.org
SUMMARY:Chapter Meeting: "Guidelines for Learning to Identify Common Native Grasses of Central Texas" with Ricky Linex @ GT Public Library
DESCRIPTION:Join NPSOT-Williamson County on Thursday\, September 11\, 2025\, when our featured topic will be Guidelines for Learning to Identify Common Native Grasses of Central Texas with Ricky Linex.  Free and open to the public. The meeting begins at 7:00 PM.  The guest presentation begins after a short business meeting. \n==> This month’s in-person location is the Georgetown Public Library\, 2nd floor\, 402 West 8th St\, Georgetown\, TX 78626. Come early (6:30 PM) for expert advice\, to check out the seed swap board\, or just to visit. \n==> To attend via Zoom\, register at https://npsot-org.zoom.us/meeting/register/n5jFwji-Q4-0n7kclxcZzA#/registration \nSee this meeting announcement for details about our topic and guest speaker.
URL:https://npsotwilco.org/event/grasses-of-central-texas-with-ricky-linex-gt-public-library/
LOCATION:Georgetown Public Library\, 402 W 8th St\, Georgetown\, TX\, 78626
CATEGORIES:meeting
END:VEVENT
END:VCALENDAR