BEGIN:VCALENDAR
VERSION:2.0
PRODID:-//NPSOT-Williamson County Chapter - ECPv6.15.20//NONSGML v1.0//EN
CALSCALE:GREGORIAN
METHOD:PUBLISH
X-ORIGINAL-URL:https://npsotwilco.org
X-WR-CALDESC:Events for NPSOT-Williamson County Chapter
REFRESH-INTERVAL;VALUE=DURATION:PT1H
X-Robots-Tag:noindex
X-PUBLISHED-TTL:PT1H
BEGIN:VTIMEZONE
TZID:America/Chicago
BEGIN:DAYLIGHT
TZOFFSETFROM:-0600
TZOFFSETTO:-0500
TZNAME:CDT
DTSTART:20240310T080000
END:DAYLIGHT
BEGIN:STANDARD
TZOFFSETFROM:-0500
TZOFFSETTO:-0600
TZNAME:CST
DTSTART:20241103T070000
END:STANDARD
BEGIN:DAYLIGHT
TZOFFSETFROM:-0600
TZOFFSETTO:-0500
TZNAME:CDT
DTSTART:20250309T080000
END:DAYLIGHT
BEGIN:STANDARD
TZOFFSETFROM:-0500
TZOFFSETTO:-0600
TZNAME:CST
DTSTART:20251102T070000
END:STANDARD
BEGIN:DAYLIGHT
TZOFFSETFROM:-0600
TZOFFSETTO:-0500
TZNAME:CDT
DTSTART:20260308T080000
END:DAYLIGHT
BEGIN:STANDARD
TZOFFSETFROM:-0500
TZOFFSETTO:-0600
TZNAME:CST
DTSTART:20261101T070000
END:STANDARD
END:VTIMEZONE
BEGIN:VEVENT
DTSTART;TZID=America/Chicago:20250313T183000
DTEND;TZID=America/Chicago:20250313T203000
DTSTAMP:20260423T033509
CREATED:20241011T091847Z
LAST-MODIFIED:20250219T182634Z
UID:4377-1741890600-1741897800@npsotwilco.org
SUMMARY:In-Person Only\, NPSOT-Wilco Chapter Meeting: Social time and "Texabama Croton: Botanical Enigma" with Tyson Bartlett @ RR Public Library
DESCRIPTION:Join NPSOT-Williamson County in-person at 6:30 PM on Thursday\, March 13\, 2025 for social time followed by our featured topic The Texabama Croton – A Botanical Enigma with Tyson Bartlett.  Free and open to the public. This month’s meeting starts at 6:30 PM with social time and refreshments. Chapter business starts at 7:15 PM followed by Tyson’s presentation. \n=> This month\, we meet in-person only\, at the Round Rock Public Library\, 200 E Liberty Ave\, Round Rock\, TX 78664. \nSee the full meeting announcement with details about our featured topic and guest speaker. \n 
URL:https://npsotwilco.org/event/npsot-wilco-chapter-meeting-texabana-croton-botanical-enigma-with-tyson-bartlett-and-social-hour-rr-public-library/
LOCATION:Round Rock Public Library\, 200 E Liberty Ave\, Round Rock\, TX\, 78664
CATEGORIES:meeting
END:VEVENT
END:VCALENDAR