BEGIN:VCALENDAR
VERSION:2.0
PRODID:-//NPSOT-Williamson County Chapter - ECPv6.15.20//NONSGML v1.0//EN
CALSCALE:GREGORIAN
METHOD:PUBLISH
X-ORIGINAL-URL:https://npsotwilco.org
X-WR-CALDESC:Events for NPSOT-Williamson County Chapter
REFRESH-INTERVAL;VALUE=DURATION:PT1H
X-Robots-Tag:noindex
X-PUBLISHED-TTL:PT1H
BEGIN:VTIMEZONE
TZID:America/Chicago
BEGIN:DAYLIGHT
TZOFFSETFROM:-0600
TZOFFSETTO:-0500
TZNAME:CDT
DTSTART:20230312T080000
END:DAYLIGHT
BEGIN:STANDARD
TZOFFSETFROM:-0500
TZOFFSETTO:-0600
TZNAME:CST
DTSTART:20231105T070000
END:STANDARD
BEGIN:DAYLIGHT
TZOFFSETFROM:-0600
TZOFFSETTO:-0500
TZNAME:CDT
DTSTART:20240310T080000
END:DAYLIGHT
BEGIN:STANDARD
TZOFFSETFROM:-0500
TZOFFSETTO:-0600
TZNAME:CST
DTSTART:20241103T070000
END:STANDARD
BEGIN:DAYLIGHT
TZOFFSETFROM:-0600
TZOFFSETTO:-0500
TZNAME:CDT
DTSTART:20250309T080000
END:DAYLIGHT
BEGIN:STANDARD
TZOFFSETFROM:-0500
TZOFFSETTO:-0600
TZNAME:CST
DTSTART:20251102T070000
END:STANDARD
END:VTIMEZONE
BEGIN:VEVENT
DTSTART;TZID=America/Chicago:20241010T190000
DTEND;TZID=America/Chicago:20241010T203000
DTSTAMP:20260423T110357
CREATED:20230702T174353Z
LAST-MODIFIED:20240918T132337Z
UID:2593-1728586800-1728592200@npsotwilco.org
SUMMARY:NPSOT-Wilco Chapter Meeting\, “Building a Future With Flowers: Lewisville’s Sustainable Solution” with TJ Gilmore @ GT Public Library
DESCRIPTION:Join NPSOT-Williamson County on Thursday\, October 10\, 2024\, when our featured topic will be “Building a Future With Flowers: Lewisville’s Sustainable Solution” with TJ Gilmore\, mayor of Lewisville\, Texas.  Our guest speaker will be joining us via Zoom from Lewisville. \nThe meeting begins at 7:00 PM. TJ’s presentation will begin after a short business meeting. The meeting is free and open to the public. \n==> This month\, we meet at the Georgetown Public Library\, 2nd Floor\, 402 W 8th St\, Georgetown\, Texas 78626.  Come early (6:30 PM) for expert advice\, to check out the seed swap board\, or just to visit. \n==> To attend via Zoom register at https://npsot-org.zoom.us/meeting/register/tZcod-6rpj0vHNbqaLOu16d146ngFuPBxCTO#/registration \nSee the meeting announcement at this link for details about the topic and our guest speaker.
URL:https://npsotwilco.org/event/npsot-wilco-chapter-meeting-topic-to-be-announced-9/
LOCATION:Georgetown Public Library\, 402 W 8th St\, Georgetown\, TX\, 78626
CATEGORIES:meeting
END:VEVENT
END:VCALENDAR