BEGIN:VCALENDAR
VERSION:2.0
PRODID:-//NPSOT-Williamson County Chapter - ECPv6.15.20//NONSGML v1.0//EN
CALSCALE:GREGORIAN
METHOD:PUBLISH
X-ORIGINAL-URL:https://npsotwilco.org
X-WR-CALDESC:Events for NPSOT-Williamson County Chapter
REFRESH-INTERVAL;VALUE=DURATION:PT1H
X-Robots-Tag:noindex
X-PUBLISHED-TTL:PT1H
BEGIN:VTIMEZONE
TZID:America/Chicago
BEGIN:DAYLIGHT
TZOFFSETFROM:-0600
TZOFFSETTO:-0500
TZNAME:CDT
DTSTART:20230312T080000
END:DAYLIGHT
BEGIN:STANDARD
TZOFFSETFROM:-0500
TZOFFSETTO:-0600
TZNAME:CST
DTSTART:20231105T070000
END:STANDARD
BEGIN:DAYLIGHT
TZOFFSETFROM:-0600
TZOFFSETTO:-0500
TZNAME:CDT
DTSTART:20240310T080000
END:DAYLIGHT
BEGIN:STANDARD
TZOFFSETFROM:-0500
TZOFFSETTO:-0600
TZNAME:CST
DTSTART:20241103T070000
END:STANDARD
BEGIN:DAYLIGHT
TZOFFSETFROM:-0600
TZOFFSETTO:-0500
TZNAME:CDT
DTSTART:20250309T080000
END:DAYLIGHT
BEGIN:STANDARD
TZOFFSETFROM:-0500
TZOFFSETTO:-0600
TZNAME:CST
DTSTART:20251102T070000
END:STANDARD
END:VTIMEZONE
BEGIN:VEVENT
DTSTART;TZID=America/Chicago:20240808T190000
DTEND;TZID=America/Chicago:20240808T203000
DTSTAMP:20260423T135922
CREATED:20230702T174236Z
LAST-MODIFIED:20240722T133350Z
UID:2589-1723143600-1723149000@npsotwilco.org
SUMMARY:NPSOT-Wilco Chapter Meeting\, Native Aquatic Plants with Casey Williams @ GT Parks & Rec Community Room
DESCRIPTION:Join NPSOT-Williamson County on Thursday\, August 8\, 2024\, when our featured topic will be “The Native Aquatic Plants of Texas” with Casey Williams.  The meeting begins at 7:00 PM.  Our guest speaker’s presentation begins after a short business meeting. The meeting is free and open to the public. Attend in person or by Zoom. \nUpdated July 22: We will know closer to the date whether or not this guest presentation will be recorded for YouTube\, and that info will be added to this calendar entry. The meeting will be recorded for YouTube. The video will be published asap after the meeting date. \nThis month\, we meet at the Georgetown Parks & Rec Administration Building\, 1101 N College St\, Georgetown\, Texas 78626. \nSee this announcement link to register for Zoom and for details about our topic and speaker.
URL:https://npsotwilco.org/event/npsot-wilco-chapter-meeting-topic-to-be-announced-7/
LOCATION:Georgetown Parks & Rec Admin Bldg\, 1101 N College St\, Georgetown\, Texas\, 78626
CATEGORIES:meeting
END:VEVENT
END:VCALENDAR