BEGIN:VCALENDAR
VERSION:2.0
PRODID:-//NPSOT-Williamson County Chapter - ECPv6.15.20//NONSGML v1.0//EN
CALSCALE:GREGORIAN
METHOD:PUBLISH
X-WR-CALNAME:NPSOT-Williamson County Chapter
X-ORIGINAL-URL:https://npsotwilco.org
X-WR-CALDESC:Events for NPSOT-Williamson County Chapter
REFRESH-INTERVAL;VALUE=DURATION:PT1H
X-Robots-Tag:noindex
X-PUBLISHED-TTL:PT1H
BEGIN:VTIMEZONE
TZID:America/Chicago
BEGIN:DAYLIGHT
TZOFFSETFROM:-0600
TZOFFSETTO:-0500
TZNAME:CDT
DTSTART:20230312T080000
END:DAYLIGHT
BEGIN:STANDARD
TZOFFSETFROM:-0500
TZOFFSETTO:-0600
TZNAME:CST
DTSTART:20231105T070000
END:STANDARD
BEGIN:DAYLIGHT
TZOFFSETFROM:-0600
TZOFFSETTO:-0500
TZNAME:CDT
DTSTART:20240310T080000
END:DAYLIGHT
BEGIN:STANDARD
TZOFFSETFROM:-0500
TZOFFSETTO:-0600
TZNAME:CST
DTSTART:20241103T070000
END:STANDARD
BEGIN:DAYLIGHT
TZOFFSETFROM:-0600
TZOFFSETTO:-0500
TZNAME:CDT
DTSTART:20250309T080000
END:DAYLIGHT
BEGIN:STANDARD
TZOFFSETFROM:-0500
TZOFFSETTO:-0600
TZNAME:CST
DTSTART:20251102T070000
END:STANDARD
END:VTIMEZONE
BEGIN:VEVENT
DTSTART;TZID=America/Chicago:20240711T190000
DTEND;TZID=America/Chicago:20240711T203000
DTSTAMP:20260423T153038
CREATED:20230702T174201Z
LAST-MODIFIED:20240620T134923Z
UID:2587-1720724400-1720729800@npsotwilco.org
SUMMARY:NPSOT-Wilco Chapter Meeting\, Annual Chapter Meeting @ GT Public Library
DESCRIPTION:Our annual chapter meeting. Free and open to the public. The meeting begins at 7:00 PM. \nResults of the chapter board election will be announced and membership anniversary pins will be presented (if the recipient attends in-person; if not attending this meeting in-person\, the pins will be provided another way after the meeting). \nExciting news! We’ll also have a short discussion about a new project. NPSOT-Williamson County Chapter is developing a user-friendly database of native plants for Williamson County. Find out the goals and the benefits to the chapter and the public. \n==> This month\, if you attend in person\, we’re at the Georgetown Public Library*\, 402 West 8th St\, Georgetown\, TX 78626. Come early (6:30 PM) for expert advice\, to check out the seed swap board\, or just to visit. (* in case you have old data\, this month was originally planned to be at GT Parks & Rec but we were able to reserve the library after all) \n==> To attend via Zoom register at https://npsot-org.zoom.us/meeting/register/tZAuce6tqj4uG9xDoQwv-lUAiKNDQJIMxfk3#/registration
URL:https://npsotwilco.org/event/npsot-wilco-chapter-meeting-topic-to-be-announced-6/
LOCATION:Georgetown Public Library\, 402 W 8th St\, Georgetown\, TX\, 78626
CATEGORIES:meeting
END:VEVENT
END:VCALENDAR