BEGIN:VCALENDAR
VERSION:2.0
PRODID:-//NPSOT-Williamson County Chapter - ECPv6.15.20//NONSGML v1.0//EN
CALSCALE:GREGORIAN
METHOD:PUBLISH
X-ORIGINAL-URL:https://npsotwilco.org
X-WR-CALDESC:Events for NPSOT-Williamson County Chapter
REFRESH-INTERVAL;VALUE=DURATION:PT1H
X-Robots-Tag:noindex
X-PUBLISHED-TTL:PT1H
BEGIN:VTIMEZONE
TZID:America/Chicago
BEGIN:DAYLIGHT
TZOFFSETFROM:-0600
TZOFFSETTO:-0500
TZNAME:CDT
DTSTART:20230312T080000
END:DAYLIGHT
BEGIN:STANDARD
TZOFFSETFROM:-0500
TZOFFSETTO:-0600
TZNAME:CST
DTSTART:20231105T070000
END:STANDARD
BEGIN:DAYLIGHT
TZOFFSETFROM:-0600
TZOFFSETTO:-0500
TZNAME:CDT
DTSTART:20240310T080000
END:DAYLIGHT
BEGIN:STANDARD
TZOFFSETFROM:-0500
TZOFFSETTO:-0600
TZNAME:CST
DTSTART:20241103T070000
END:STANDARD
BEGIN:DAYLIGHT
TZOFFSETFROM:-0600
TZOFFSETTO:-0500
TZNAME:CDT
DTSTART:20250309T080000
END:DAYLIGHT
BEGIN:STANDARD
TZOFFSETFROM:-0500
TZOFFSETTO:-0600
TZNAME:CST
DTSTART:20251102T070000
END:STANDARD
END:VTIMEZONE
BEGIN:VEVENT
DTSTART;TZID=America/Chicago:20240509T190000
DTEND;TZID=America/Chicago:20240509T203000
DTSTAMP:20260423T183627
CREATED:20230702T174030Z
LAST-MODIFIED:20240417T151411Z
UID:2583-1715281200-1715286600@npsotwilco.org
SUMMARY:NPSOT-Wilco Chapter Meeting\, Archeology and Ethnobotany with Susan Reynolds @ GT Public Library
DESCRIPTION:Join NPSOT-Williamson County on Thursday\, May 9\, 2024\, when our featured topic will be “Archeology in Texas Botanical Gardens / Ethnobotany in Texas Botanical Gardens” with Susan Reynolds\, ED\, Texas Botanical Gardens & Native American Interpretive Center.   \nFree and open to the public. The meeting begins at 7:00 PM.  Our guest speaker’s presentation begins after a short business meeting. \n\n\n\n==> This month\, if you attend in person\, we’re at the Georgetown Public Library\, 2nd floor\, 402 West 8th St\, Georgetown\, TX 78626. Come early (6:30 PM) for expert advice\, to check out the seed swap board\, or just to visit. \n\n\n\n==> To attend via Zoom register at https://npsot-org.zoom.us/meeting/register/tZEkfu6qqTIpGNXPq_BjGEpgYnlFCXCnDcef#/registration \n\n\n\nSee this announcement link for details about our topic and speaker.
URL:https://npsotwilco.org/event/npsot-wilco-chapter-meeting-topic-to-be-announced-4/
LOCATION:Georgetown Public Library\, 402 W 8th St\, Georgetown\, TX\, 78626
CATEGORIES:meeting
END:VEVENT
END:VCALENDAR