BEGIN:VCALENDAR
VERSION:2.0
PRODID:-//NPSOT-Williamson County Chapter - ECPv6.15.20//NONSGML v1.0//EN
CALSCALE:GREGORIAN
METHOD:PUBLISH
X-WR-CALNAME:NPSOT-Williamson County Chapter
X-ORIGINAL-URL:https://npsotwilco.org
X-WR-CALDESC:Events for NPSOT-Williamson County Chapter
REFRESH-INTERVAL;VALUE=DURATION:PT1H
X-Robots-Tag:noindex
X-PUBLISHED-TTL:PT1H
BEGIN:VTIMEZONE
TZID:America/Chicago
BEGIN:DAYLIGHT
TZOFFSETFROM:-0600
TZOFFSETTO:-0500
TZNAME:CDT
DTSTART:20230312T080000
END:DAYLIGHT
BEGIN:STANDARD
TZOFFSETFROM:-0500
TZOFFSETTO:-0600
TZNAME:CST
DTSTART:20231105T070000
END:STANDARD
BEGIN:DAYLIGHT
TZOFFSETFROM:-0600
TZOFFSETTO:-0500
TZNAME:CDT
DTSTART:20240310T080000
END:DAYLIGHT
BEGIN:STANDARD
TZOFFSETFROM:-0500
TZOFFSETTO:-0600
TZNAME:CST
DTSTART:20241103T070000
END:STANDARD
BEGIN:DAYLIGHT
TZOFFSETFROM:-0600
TZOFFSETTO:-0500
TZNAME:CDT
DTSTART:20250309T080000
END:DAYLIGHT
BEGIN:STANDARD
TZOFFSETFROM:-0500
TZOFFSETTO:-0600
TZNAME:CST
DTSTART:20251102T070000
END:STANDARD
END:VTIMEZONE
BEGIN:VEVENT
DTSTART;TZID=America/Chicago:20240411T190000
DTEND;TZID=America/Chicago:20240411T203000
DTSTAMP:20260423T200031
CREATED:20230702T173917Z
LAST-MODIFIED:20240414T162342Z
UID:2581-1712862000-1712867400@npsotwilco.org
SUMMARY:NPSOT-Wilco Chapter Meeting\, "Drought-Tolerant Native Plants: Nothing Works Like Natives" with Randy Pensabene @ GT Public Library
DESCRIPTION:[4/14 handout updated\, replaced handout link.] \nJoin NPSOT-Williamson County on Thursday\, April 11\, 2024\, when our featured topic will be “Drought-Tolerant Native Plants: Nothing Works Like Natives” with Randy Pensabene.  Free and open to the public. The meeting begins at 7:00 PM.  Our guest speaker’s presentation begins after a short business meeting. \nRandy has provided a handout ==> (link replaced Apr 14) click this link to download the handout. \nSee the full meeting announcement here. \n==> This month\, if you attend in person\, we’re at the Georgetown Public Library\, 2nd floor\, 402 West 8th St\, Georgetown\, TX 78626. Come early (6:30 PM) for expert advice\, to check out the seed swap board\, or just to visit. \n==> To attend via Zoom register at https://npsot-org.zoom.us/meeting/register/tZcpcu2grz8jGdfflwPsKx6VTsZgWNdwZbDm#/registration
URL:https://npsotwilco.org/event/npsot-wilco-chapter-meeting-topic-to-be-announced-3/
LOCATION:Georgetown Public Library\, 402 W 8th St\, Georgetown\, TX\, 78626
CATEGORIES:meeting
END:VEVENT
END:VCALENDAR