BEGIN:VCALENDAR
VERSION:2.0
PRODID:-//NPSOT-Williamson County Chapter - ECPv6.15.20//NONSGML v1.0//EN
CALSCALE:GREGORIAN
METHOD:PUBLISH
X-WR-CALNAME:NPSOT-Williamson County Chapter
X-ORIGINAL-URL:https://npsotwilco.org
X-WR-CALDESC:Events for NPSOT-Williamson County Chapter
REFRESH-INTERVAL;VALUE=DURATION:PT1H
X-Robots-Tag:noindex
X-PUBLISHED-TTL:PT1H
BEGIN:VTIMEZONE
TZID:America/Chicago
BEGIN:DAYLIGHT
TZOFFSETFROM:-0600
TZOFFSETTO:-0500
TZNAME:CDT
DTSTART:20230312T080000
END:DAYLIGHT
BEGIN:STANDARD
TZOFFSETFROM:-0500
TZOFFSETTO:-0600
TZNAME:CST
DTSTART:20231105T070000
END:STANDARD
BEGIN:DAYLIGHT
TZOFFSETFROM:-0600
TZOFFSETTO:-0500
TZNAME:CDT
DTSTART:20240310T080000
END:DAYLIGHT
BEGIN:STANDARD
TZOFFSETFROM:-0500
TZOFFSETTO:-0600
TZNAME:CST
DTSTART:20241103T070000
END:STANDARD
BEGIN:DAYLIGHT
TZOFFSETFROM:-0600
TZOFFSETTO:-0500
TZNAME:CDT
DTSTART:20250309T080000
END:DAYLIGHT
BEGIN:STANDARD
TZOFFSETFROM:-0500
TZOFFSETTO:-0600
TZNAME:CST
DTSTART:20251102T070000
END:STANDARD
END:VTIMEZONE
BEGIN:VEVENT
DTSTART;TZID=America/Chicago:20240314T190000
DTEND;TZID=America/Chicago:20240314T203000
DTSTAMP:20260423T211730
CREATED:20230702T173832Z
LAST-MODIFIED:20240224T011949Z
UID:2579-1710442800-1710448200@npsotwilco.org
SUMMARY:NPSOT-Wilco Chapter Meeting\, "Drop by Drop: The Impact of Small Changes" with Jessica Woods @ RR Public Library
DESCRIPTION:Join NPSOT-Williamson County on Thursday\, March 14\, 2024\, when our featured topic will be “Drop by Drop: The Impact of Small Changes” with Jessica Woods\, City of Round Rock Water Conservation Coordinator.  Free and open to the public. The meeting begins at 7:00 PM.  Our guest speaker’s presentation begins after a short business meeting. \n\n\n\n==> This month\, if you attend in person\, we’re at the Round Rock Public Library\, 200 E Liberty Ave\, Round Rock\, TX 78664.  Come early (6:30 PM) for expert advice\, to check out the seed swap board\, or just to visit. \n\n\n\n==> To attend via Zoom register at https://npsot-org.zoom.us/meeting/register/tZUvde2srT8sHdxPatHqpIPtD7TxxHHj_1ZO#/registration. \n\n\n\nJessica Woods on Round Rock’s historic round rock.\n\nAbout our topic:  During warm weather\, a large amount water is used outdoors on lawns and landscapes and much of it is wasted. With Central Texas still experiencing drought and low lake levels\, we want to prevent water waste. This presentation will cover the current drought conditions and several steps homeowners can do to effectively use water. Conservation programs the City of Round Rock offers will also be covered. \n\n\n\nAbout our speaker: Jessica Woods has worked as the City of Round Rock’s Water Conservation Program Coordinator since 2009. She manages all aspects of the growing city’s conservation program\, drought outreach\, and education efforts on a tight budget. Jessica earned a Master’s of Applied Geography degree from Southwest Texas State University. She’s the Texas Section AWWA Conservation and Reuse Division Chair and a certified Master Naturalist. She enjoys spending time outdoors\, attempting to garden\, and lounging around water with a good book and cold drink! \n\n\n\n\n\nAt every meeting\, we give away a book — about native plants or the meeting topic — to one randomly chosen in-person attendee! \n\n  \n 
URL:https://npsotwilco.org/event/npsot-wilco-chapter-meeting-topic-to-be-announced-2/
LOCATION:Round Rock Public Library\, 200 E Liberty Ave\, Round Rock\, TX\, 78664
CATEGORIES:meeting
END:VEVENT
END:VCALENDAR