BEGIN:VCALENDAR
VERSION:2.0
PRODID:-//NPSOT-Williamson County Chapter - ECPv6.15.20//NONSGML v1.0//EN
CALSCALE:GREGORIAN
METHOD:PUBLISH
X-ORIGINAL-URL:https://npsotwilco.org
X-WR-CALDESC:Events for NPSOT-Williamson County Chapter
REFRESH-INTERVAL;VALUE=DURATION:PT1H
X-Robots-Tag:noindex
X-PUBLISHED-TTL:PT1H
BEGIN:VTIMEZONE
TZID:America/Chicago
BEGIN:DAYLIGHT
TZOFFSETFROM:-0600
TZOFFSETTO:-0500
TZNAME:CDT
DTSTART:20230312T080000
END:DAYLIGHT
BEGIN:STANDARD
TZOFFSETFROM:-0500
TZOFFSETTO:-0600
TZNAME:CST
DTSTART:20231105T070000
END:STANDARD
BEGIN:DAYLIGHT
TZOFFSETFROM:-0600
TZOFFSETTO:-0500
TZNAME:CDT
DTSTART:20240310T080000
END:DAYLIGHT
BEGIN:STANDARD
TZOFFSETFROM:-0500
TZOFFSETTO:-0600
TZNAME:CST
DTSTART:20241103T070000
END:STANDARD
BEGIN:DAYLIGHT
TZOFFSETFROM:-0600
TZOFFSETTO:-0500
TZNAME:CDT
DTSTART:20250309T080000
END:DAYLIGHT
BEGIN:STANDARD
TZOFFSETFROM:-0500
TZOFFSETTO:-0600
TZNAME:CST
DTSTART:20251102T070000
END:STANDARD
END:VTIMEZONE
BEGIN:VEVENT
DTSTART;TZID=America/Chicago:20240208T190000
DTEND;TZID=America/Chicago:20240208T203000
DTSTAMP:20260423T223535
CREATED:20230702T173740Z
LAST-MODIFIED:20240117T160638Z
UID:2577-1707418800-1707424200@npsotwilco.org
SUMMARY:NPSOT-Wilco Chapter Meeting\, "Land Stewardship for Birds and the Importance of Native Plant Communities" with Rufus Stephens and Jan Wrede @ GT Public Library
DESCRIPTION:Join NPSOT-Williamson County on Thursday\, February 8\, 2024\, when our featured topic will be “Land Stewardship for Birds and the Importance of Native Plant Communities” with Rufus Stephens and Jan Wrede.  Free and open to the public. The meeting begins at 7:00 PM.  Our guest speakers’ presentation begins after a short business meeting. \n==> If you attend in person\, we’re at the Georgetown Public Library\, 2nd floor\, 402 West 8th St\, Georgetown\, TX 78626.  Come early (6:30 PM) for expert advice\, to check out the seed swap board\, or just to visit. \n==> To attend via Zoom\, register at https://npsot-org.zoom.us/meeting/register/tZwtd–upjwiGNYYJIN_dT56MGzF23wZ-a_F#/registration \nSee this announcement link for details about our topic and speakers.
URL:https://npsotwilco.org/event/npsot-wilco-chapter-meeting-topic-to-be-announced/
LOCATION:Georgetown Public Library\, 402 W 8th St\, Georgetown\, TX\, 78626
CATEGORIES:meeting
END:VEVENT
END:VCALENDAR