BEGIN:VCALENDAR
VERSION:2.0
PRODID:-//NPSOT-Williamson County Chapter - ECPv6.15.20//NONSGML v1.0//EN
CALSCALE:GREGORIAN
METHOD:PUBLISH
X-ORIGINAL-URL:https://npsotwilco.org
X-WR-CALDESC:Events for NPSOT-Williamson County Chapter
REFRESH-INTERVAL;VALUE=DURATION:PT1H
X-Robots-Tag:noindex
X-PUBLISHED-TTL:PT1H
BEGIN:VTIMEZONE
TZID:America/Chicago
BEGIN:DAYLIGHT
TZOFFSETFROM:-0600
TZOFFSETTO:-0500
TZNAME:CDT
DTSTART:20230312T080000
END:DAYLIGHT
BEGIN:STANDARD
TZOFFSETFROM:-0500
TZOFFSETTO:-0600
TZNAME:CST
DTSTART:20231105T070000
END:STANDARD
BEGIN:DAYLIGHT
TZOFFSETFROM:-0600
TZOFFSETTO:-0500
TZNAME:CDT
DTSTART:20240310T080000
END:DAYLIGHT
BEGIN:STANDARD
TZOFFSETFROM:-0500
TZOFFSETTO:-0600
TZNAME:CST
DTSTART:20241103T070000
END:STANDARD
BEGIN:DAYLIGHT
TZOFFSETFROM:-0600
TZOFFSETTO:-0500
TZNAME:CDT
DTSTART:20250309T080000
END:DAYLIGHT
BEGIN:STANDARD
TZOFFSETFROM:-0500
TZOFFSETTO:-0600
TZNAME:CST
DTSTART:20251102T070000
END:STANDARD
END:VTIMEZONE
BEGIN:VEVENT
DTSTART;TZID=America/Chicago:20240111T190000
DTEND;TZID=America/Chicago:20240111T203000
DTSTAMP:20260423T235011
CREATED:20230714T192704Z
LAST-MODIFIED:20231220T150155Z
UID:2518-1704999600-1705005000@npsotwilco.org
SUMMARY:NPSOT-Wilco Chapter Meeting\, “Fire Ant Management” with Wizzie Brown @ GT Public Library
DESCRIPTION:Join NPSOT-Williamson County for our first meeting of the new year! \nOn Thursday\, January 11\, 2024\, our featured topic will be “Fire Ant Management” with Wizzie Brown.  Free and open to the public. The meeting begins at 7:00 PM.  Our guest speaker’s presentation begins after a short business meeting. \nThis month’s presentation will NOT be recorded for YouTube. \n==> If you attend in person\, we’re at the Georgetown Public Library\, 2nd floor\, 402 West 8th St\, Georgetown\, TX 78626.  Come early (6:30 PM) for expert advice\, to check out the seed swap board\, or just to visit. \n==> To attend via Zoom\, register at https://npsot-org.zoom.us/meeting/register/tZUoduqspjosG9SR4dkBtog7kAzHTbz3K710#/registration \nAbout our topic:  Learn about fire ant identification\, history\, and biology. We’ll also talk about how to manage fire ants. \nAbout our speaker: Wizzie Brown is a Senior Extension Program Specialist-IPM with Texas A&M AgriLife Extension Service. She received her Bachelor’s of Science in entomology from Ohio State University and a Master’s of Science in entomology from Texas A&M University. After leaving Texas A&M\, Wizzie worked in structural pest control before taking a job with Texas A&M AgriLife Extension Service in Austin. She is a Board Certified Entomologist with a specialty in Urban Entomology and holds a non-commercial license from the Texas Structural Pest Control Service. \n\n\n\n\nAt every meeting\, we give away a book — about native plants or the meeting topic — to one randomly chosen in-person attendee! \n\nHave an idea for a speaker?  Let Program Leader Susie Hickman know via  email to wilco-chapter@npsot.org. \nNPSOT-Williamson County meetings are free and open to the public. We hope you attend!  Meetings may be in person\, virtual\, or both\, so be sure to check details in the meeting announcement. Meetings are announced on our website\, our calendar and Facebook. See upcoming topics on our page Wilco Home or on our Calendar.
URL:https://npsotwilco.org/event/npsot-wilco-chapter-meeting-fire-ants-with-wizzie-brown/
LOCATION:Georgetown Public Library\, 402 W 8th St\, Georgetown\, TX\, 78626
CATEGORIES:meeting
END:VEVENT
END:VCALENDAR